BEGIN:VCALENDAR
VERSION:2.0
PRODID:-//Gießener Zeitung - ECPv6.15.20//NONSGML v1.0//EN
CALSCALE:GREGORIAN
METHOD:PUBLISH
X-ORIGINAL-URL:https://www.giessener-zeitung.de
X-WR-CALDESC:Veranstaltungen für Gießener Zeitung
REFRESH-INTERVAL;VALUE=DURATION:PT1H
X-Robots-Tag:noindex
X-PUBLISHED-TTL:PT1H
BEGIN:VTIMEZONE
TZID:Europe/Berlin
BEGIN:DAYLIGHT
TZOFFSETFROM:+0100
TZOFFSETTO:+0200
TZNAME:CEST
DTSTART:20230326T010000
END:DAYLIGHT
BEGIN:STANDARD
TZOFFSETFROM:+0200
TZOFFSETTO:+0100
TZNAME:CET
DTSTART:20231029T010000
END:STANDARD
BEGIN:DAYLIGHT
TZOFFSETFROM:+0100
TZOFFSETTO:+0200
TZNAME:CEST
DTSTART:20240331T010000
END:DAYLIGHT
BEGIN:STANDARD
TZOFFSETFROM:+0200
TZOFFSETTO:+0100
TZNAME:CET
DTSTART:20241027T010000
END:STANDARD
BEGIN:DAYLIGHT
TZOFFSETFROM:+0100
TZOFFSETTO:+0200
TZNAME:CEST
DTSTART:20250330T010000
END:DAYLIGHT
BEGIN:STANDARD
TZOFFSETFROM:+0200
TZOFFSETTO:+0100
TZNAME:CET
DTSTART:20251026T010000
END:STANDARD
END:VTIMEZONE
BEGIN:VEVENT
DTSTART;TZID=Europe/Berlin:20241214T170000
DTEND;TZID=Europe/Berlin:20241214T173000
DTSTAMP:20260423T102132
CREATED:20241208T093605Z
LAST-MODIFIED:20241208T093605Z
UID:64448-1734195600-1734197400@www.giessener-zeitung.de
SUMMARY:Kleines Weihnachtsständchen in Ettingshausen
DESCRIPTION:Der „Concordia Liederkranz“ und der Junge Chor der „Young Generation“ laden am Samstag\, den 14. Dezember um 17:00 Uhr zu einem „Kleinen Weihnachtsständchen“ ein. Als Gastchor wird „Cantiamo“ Staufenberg das Programm bereichern. Mitten im Ort\, am Feuerwehrgerätehaus\, möchten die Sängerinnen und Sänger – unter der Leitung des gemeinsamen Chorleiters Axel Pfeiffer – mit einem ca. 30-minütigem Programm etwas vorweihnachtliche Stimmung im Ort verbreiten. Bei nassem Wetter steht das Feuerwehrgerätehaus zur Verfügung. Mit diesem Ständchen verabschieden sich die Chöre musikalisch in die Weihnachtsferien.
URL:https://www.giessener-zeitung.de/event/kleines-weihnachtsstaendchen-in-ettingshausen/
LOCATION:Feuerwehrgerätehaus Ettingshausen\, Am Bahnhof 5\, Ettingshausen\, Hessen\, 35447\, Deutschland
CATEGORIES:Chor,Eintritt frei,Livemusik
ATTACH;FMTTYPE=image/jpeg:https://www.giessener-zeitung.de/wp-content/uploads/2024/12/2024-12_Weihnachtsstaendchen.jpg
END:VEVENT
END:VCALENDAR