BEGIN:VCALENDAR
VERSION:2.0
PRODID:-//Gießener Zeitung - ECPv6.15.20//NONSGML v1.0//EN
CALSCALE:GREGORIAN
METHOD:PUBLISH
X-ORIGINAL-URL:https://www.giessener-zeitung.de
X-WR-CALDESC:Veranstaltungen für Gießener Zeitung
REFRESH-INTERVAL;VALUE=DURATION:PT1H
X-Robots-Tag:noindex
X-PUBLISHED-TTL:PT1H
BEGIN:VTIMEZONE
TZID:Europe/Berlin
BEGIN:DAYLIGHT
TZOFFSETFROM:+0100
TZOFFSETTO:+0200
TZNAME:CEST
DTSTART:20240331T010000
END:DAYLIGHT
BEGIN:STANDARD
TZOFFSETFROM:+0200
TZOFFSETTO:+0100
TZNAME:CET
DTSTART:20241027T010000
END:STANDARD
BEGIN:DAYLIGHT
TZOFFSETFROM:+0100
TZOFFSETTO:+0200
TZNAME:CEST
DTSTART:20250330T010000
END:DAYLIGHT
BEGIN:STANDARD
TZOFFSETFROM:+0200
TZOFFSETTO:+0100
TZNAME:CET
DTSTART:20251026T010000
END:STANDARD
BEGIN:DAYLIGHT
TZOFFSETFROM:+0100
TZOFFSETTO:+0200
TZNAME:CEST
DTSTART:20260329T010000
END:DAYLIGHT
BEGIN:STANDARD
TZOFFSETFROM:+0200
TZOFFSETTO:+0100
TZNAME:CET
DTSTART:20261025T010000
END:STANDARD
END:VTIMEZONE
BEGIN:VEVENT
DTSTART;TZID=Europe/Berlin:20250116T190000
DTEND;TZID=Europe/Berlin:20250116T190000
DTSTAMP:20260423T020055
CREATED:20250112T003123Z
LAST-MODIFIED:20250112T003123Z
UID:65437-1737054000-1737054000@www.giessener-zeitung.de
SUMMARY:The Keller Theatre invites you to Auditions for "Marjorie Prime" by Jordan Harrison
DESCRIPTION:You always wanted to get involved with english-speaking theatre? Here´s your chance: \nAuditions for Marjorie Prime will be on:\nThu 16\, Tue 21 and Thu 23 January 2025\nat 7pm\nKleine Bühne\, Bleichstraße 28\, 35390 Gießen \nWe need: \n\n1 woman to play an elderly lady (we have makeup)\n1 woman to play her daughter\n1 man to play her son-in-law\n1 man to suit an age between late twenties/early forties\nand an assistant director.\n\nKleine Bühne Gießen\nBleichstraße 28\, 35390 Gießen \nFor more information see www.keller-theatre.de \nLooking forward to seeing you. \n 
URL:https://www.giessener-zeitung.de/event/the-keller-theatre-invites-you-to-auditions-for-marjorie-prime-by-jordan-harrison/
LOCATION:Kleine Bühne\, Bleichstraße 28\, 35390 Gießen\, Kleine Bühne\, Bleichstraße 28\, Gießen\, Hessen\, 35390\, Deutschland
CATEGORIES:Freizeit,Kultur,Theater,Vereine
ATTACH;FMTTYPE=image/jpeg:https://www.giessener-zeitung.de/wp-content/uploads/2025/01/Auditions_Marjorie_Prime.jpg
ORGANIZER;CN="the Keller Theatre":MAILTO:info@keller-theatre.de
END:VEVENT
BEGIN:VEVENT
DTSTART;TZID=Europe/Berlin:20250121T190000
DTEND;TZID=Europe/Berlin:20250121T190000
DTSTAMP:20260423T020055
CREATED:20250112T004212Z
LAST-MODIFIED:20250112T004212Z
UID:65444-1737486000-1737486000@www.giessener-zeitung.de
SUMMARY:The Keller Theatre invites you to Auditions for “Marjorie Prime” by Jordan Harrison
DESCRIPTION:You always wanted to get involved with english-speaking theatre? Here´s your chance:\n\nAuditions for Marjorie Prime will be on:\n\nThu 16\, Tue 21 and Thu 23 January 2025\nat 7pm\nKleine Bühne\, Bleichstraße 28\, 35390 Gießen\nWe need:\n\n1 woman to play an elderly lady (we have makeup)\n1 woman to play her daughter\n1 man to play her son-in-law\n1 man to suit an age between late twenties/early forties\nand an assistant director.\n\nKleine Bühne Gießen\nBleichstraße 28\, 35390 Gießen\n\nFor more information see www.keller-theatre.de\n\nLooking forward to seeing you.
URL:https://www.giessener-zeitung.de/event/the-keller-theatre-invites-you-to-auditions-for-marjorie-prime-by-jordan-harrison-2/
LOCATION:Kleine Bühne\, Bleichstraße 28\, 35390 Gießen\, Kleine Bühne\, Bleichstraße 28\, Gießen\, Hessen\, 35390\, Deutschland
CATEGORIES:Bildung,Freizeit,Kultur,Theater,Vereine
ATTACH;FMTTYPE=image/jpeg:https://www.giessener-zeitung.de/wp-content/uploads/2025/01/Auditions_Marjorie_Prime.jpg
ORGANIZER;CN="the Keller Theatre":MAILTO:info@keller-theatre.de
END:VEVENT
BEGIN:VEVENT
DTSTART;TZID=Europe/Berlin:20250123T190000
DTEND;TZID=Europe/Berlin:20250123T190000
DTSTAMP:20260423T020055
CREATED:20250112T004730Z
LAST-MODIFIED:20250112T004730Z
UID:65447-1737658800-1737658800@www.giessener-zeitung.de
SUMMARY:The Keller Theatre invites you to Auditions for “Marjorie Prime” by Jordan Harrison
DESCRIPTION:You always wanted to get involved with english-speaking theatre? Here´s your chance:\n\nAuditions for Marjorie Prime will be on:\n\nThu 16\, Tue 21 and Thu 23 January 2025\nat 7pm\nKleine Bühne\, Bleichstraße 28\, 35390 Gießen\nWe need:\n\n1 woman to play an elderly lady (we have makeup)\n1 woman to play her daughter\n1 man to play her son-in-law\n1 man to suit an age between late twenties/early forties\nand an assistant director.\n\nKleine Bühne Gießen\nBleichstraße 28\, 35390 Gießen\n\nFor more information see www.keller-theatre.de\n\nLooking forward to seeing you.
URL:https://www.giessener-zeitung.de/event/the-keller-theatre-invites-you-to-auditions-for-marjorie-prime-by-jordan-harrison-3/
LOCATION:Kleine Bühne\, Bleichstraße 28\, 35390 Gießen\, Kleine Bühne\, Bleichstraße 28\, Gießen\, Hessen\, 35390\, Deutschland
CATEGORIES:Bildung,Freizeit,Kultur,Theater,Vereine
ATTACH;FMTTYPE=image/jpeg:https://www.giessener-zeitung.de/wp-content/uploads/2025/01/Auditions_Marjorie_Prime.jpg
ORGANIZER;CN="the Keller Theatre":MAILTO:info@keller-theatre.de
END:VEVENT
BEGIN:VEVENT
DTSTART;TZID=Europe/Berlin:20250125T200000
DTEND;TZID=Europe/Berlin:20250125T200000
DTSTAMP:20260423T020055
CREATED:20250111T231221Z
LAST-MODIFIED:20250111T231221Z
UID:65427-1737835200-1737835200@www.giessener-zeitung.de
SUMMARY:The Keller Theatre presents Readings in English: Haunted houses
DESCRIPTION:The Keller Theatre presents Readings in collaboration with the \nPhantastische Bibliothek\, Wetzlar \nEnglish-language Gothic tales\n\n\n\nSat 25 Jan 2025 – Haunted houses \nSat 8 Feb 2025 — Over the moor \nat 8pm (doors open at 7.30pm) \nKleine Bühne\, Bleichstraße 28\, 35390 Gießen \nTickets are only available at the box office on show nights. \n\nAdults: 6 €\nStudents and disabled: 3 €\n\n 
URL:https://www.giessener-zeitung.de/event/the-keller-theatre-presents-readings-in-english-haunted-houses/
LOCATION:Kleine Bühne\, Bleichstraße 28\, 35390 Gießen\, Kleine Bühne\, Bleichstraße 28\, Gießen\, Hessen\, 35390\, Deutschland
CATEGORIES:Kultur,Lesung,Literatur,Theater,Vereine
ATTACH;FMTTYPE=image/jpeg:https://www.giessener-zeitung.de/wp-content/uploads/2025/01/Poster-Reading-Gothic-Tales_V2.jpg
ORGANIZER;CN="the Keller Theatre":MAILTO:info@keller-theatre.de
END:VEVENT
END:VCALENDAR