BEGIN:VCALENDAR
VERSION:2.0
PRODID:-//Gießener Zeitung - ECPv6.15.20//NONSGML v1.0//EN
CALSCALE:GREGORIAN
METHOD:PUBLISH
X-ORIGINAL-URL:https://www.giessener-zeitung.de
X-WR-CALDESC:Veranstaltungen für Gießener Zeitung
REFRESH-INTERVAL;VALUE=DURATION:PT1H
X-Robots-Tag:noindex
X-PUBLISHED-TTL:PT1H
BEGIN:VTIMEZONE
TZID:Europe/Berlin
BEGIN:DAYLIGHT
TZOFFSETFROM:+0100
TZOFFSETTO:+0200
TZNAME:CEST
DTSTART:20240331T010000
END:DAYLIGHT
BEGIN:STANDARD
TZOFFSETFROM:+0200
TZOFFSETTO:+0100
TZNAME:CET
DTSTART:20241027T010000
END:STANDARD
BEGIN:DAYLIGHT
TZOFFSETFROM:+0100
TZOFFSETTO:+0200
TZNAME:CEST
DTSTART:20250330T010000
END:DAYLIGHT
BEGIN:STANDARD
TZOFFSETFROM:+0200
TZOFFSETTO:+0100
TZNAME:CET
DTSTART:20251026T010000
END:STANDARD
BEGIN:DAYLIGHT
TZOFFSETFROM:+0100
TZOFFSETTO:+0200
TZNAME:CEST
DTSTART:20260329T010000
END:DAYLIGHT
BEGIN:STANDARD
TZOFFSETFROM:+0200
TZOFFSETTO:+0100
TZNAME:CET
DTSTART:20261025T010000
END:STANDARD
END:VTIMEZONE
BEGIN:VEVENT
DTSTART;TZID=Europe/Berlin:20250506T170000
DTEND;TZID=Europe/Berlin:20250506T190000
DTSTAMP:20260422T091704
CREATED:20250224T090134Z
LAST-MODIFIED:20250224T090305Z
UID:66277-1746550800-1746558000@www.giessener-zeitung.de
SUMMARY:Hochverarbeitet - Hochgenuß ?! einfach zuzubereiten und lange Haltbar: Lebensmittel
DESCRIPTION:Sie sind praktisch\, einfach zuzubereiten und lange\nhaltbar: hochverarbeitete Lebensmittel \nGemeinsam nehmen wir die Welt der\nhochverarbeiteten Lebensmittel in den Blick und\nbefassen uns mit deren Eigenschaften\,\nBesonderheiten und den Wirkungen auf unsere\nGesundheit: Was zeichnet sie aus? Was steckt drin?\nTun Sie uns gut? \nWie können wir unseren\nErnährungsalltag- auch ohne sie- \neinfach\, zeitsparend und genussvoll gestalten? \nNeben diesen\nund weiteren Fragen\, gibt es viele Tipps\, Tricks und\nleckere Rezepte. \nAb 17 Uhr im Kirchenzentrum Niederkleen\, \nHafergärten 6 \n35428 Langgöns Ortsteil Niederkleen \nDies ist eine Veranstaltung der Landfrauen Niederkleen-Dornholzhausen\, es können Landfrauen u.a. alle Interessenten-innen daran teilnehmen. Der Eintritt ist frei\, eine Spende ist immer möglich. \nAnmelden bitte bis 02.05.2025 unter 06447-6699 oder landfrauen-nk-do@gmx.de \nDauer ca. 90-120min
URL:https://www.giessener-zeitung.de/event/hochverarbeitet-hochgenuss-einfach-zuzubereiten-und-lange-haltbar-lebensmittel/
LOCATION:Kirchenzentrum Niederkleen\, Hafergärten 6\, Langgöns-Niederkleen\, Hessen\, 35428\, Germany
CATEGORIES:Bildung,Eintritt frei,Freizeit,Gesprächskreis,Kulinarisches,Kultur,Vereine
ATTACH;FMTTYPE=image/jpeg:https://www.giessener-zeitung.de/wp-content/uploads/2025/02/WhatsApp-Bild-2025-02-24-um-09.38.01_9f07171f.jpg
ORGANIZER;CN="Landfrauen Niederkleen-Dornholzhausen":MAILTO:landfrauen-nk-do@gmx.de
END:VEVENT
BEGIN:VEVENT
DTSTART;TZID=Europe/Berlin:20250525T140000
DTEND;TZID=Europe/Berlin:20250525T173000
DTSTAMP:20260422T091704
CREATED:20250522T204443Z
LAST-MODIFIED:20250522T205328Z
UID:69934-1748181600-1748194200@www.giessener-zeitung.de
SUMMARY:Museumsfest im und um das Heimatmuseum Niederkleen
DESCRIPTION:Die Mitglieder des Heimat und Geschichtsvereins veranstalten ein Museumsfest im und um das Museum von Langgöns Ortsteil Niederkleen in der Kirchstrasse. \nAb 14 Uhr gehts mit guter Laune los:  es gibt Kaffee & Kuchen lecker Bratwurst bei Pils/ Export/Wein und andere Spirituosen \neinen spannenden Schlagabtausch mit viel Spaß an ‘der Platte’ findet statt. Denn im Begegnungsgarten wurde Platz geschaffen um Openair Tischtennis zu spielen. Die Mitglieder der Tischtennisabteilung vom TSV Niederkleen haben in Eigenleistung eine Bodenplatte hergestellt um dort jedem das Spiel an der ‘Platte’ zu ermöglichen. Zur Eröffnung dieser neuen Attraktion findet ein spannender Schlagabtausch unter Amateuren und Besuchern an ‘der Platte’ statt. \nDas Museum ist geöffnet und zeigt seine Exponate aus Handwerk und Leben vergangener Zeit\, so wie im Dorf gelebt wurde. \nIm Leiterhaus zeigt die Dauerausstellung wieder neue Bilder aus unserer Region und lädt ebenfalls zum verweilen ein. \nWir freuen uns über jeden Besucher\, der mit uns einen gemütlichen Nachmittag verbringen möchte.
URL:https://www.giessener-zeitung.de/event/museumsfest-im-und-um-das-heimatmuseum-niederkleen/
LOCATION:Heimatmuseum Niederkleen\, Kirchstrasse 5\, Niederkleen\, 35428
CATEGORIES:Ausstellung,Eintritt frei,Freizeit,Kinder,Kulinarisches,Kultur,Live,Open-Air,Tag der offenen Tür
ATTACH;FMTTYPE=image/jpeg:https://www.giessener-zeitung.de/wp-content/uploads/2025/05/WhatsApp-Bild-2025-05-22-um-22.03.53_26e1dc74.jpg
ORGANIZER;CN="Heimat- und Geschichtsverein Niederkleen e.V.":MAILTO:museum-niederkleen@gmx.de
END:VEVENT
END:VCALENDAR