BEGIN:VCALENDAR
VERSION:2.0
PRODID:-//Gießener Zeitung - ECPv6.15.20//NONSGML v1.0//EN
CALSCALE:GREGORIAN
METHOD:PUBLISH
X-ORIGINAL-URL:https://www.giessener-zeitung.de
X-WR-CALDESC:Veranstaltungen für Gießener Zeitung
REFRESH-INTERVAL;VALUE=DURATION:PT1H
X-Robots-Tag:noindex
X-PUBLISHED-TTL:PT1H
BEGIN:VTIMEZONE
TZID:Europe/Berlin
BEGIN:DAYLIGHT
TZOFFSETFROM:+0100
TZOFFSETTO:+0200
TZNAME:CEST
DTSTART:20230326T010000
END:DAYLIGHT
BEGIN:STANDARD
TZOFFSETFROM:+0200
TZOFFSETTO:+0100
TZNAME:CET
DTSTART:20231029T010000
END:STANDARD
BEGIN:DAYLIGHT
TZOFFSETFROM:+0100
TZOFFSETTO:+0200
TZNAME:CEST
DTSTART:20240331T010000
END:DAYLIGHT
BEGIN:STANDARD
TZOFFSETFROM:+0200
TZOFFSETTO:+0100
TZNAME:CET
DTSTART:20241027T010000
END:STANDARD
BEGIN:DAYLIGHT
TZOFFSETFROM:+0100
TZOFFSETTO:+0200
TZNAME:CEST
DTSTART:20250330T010000
END:DAYLIGHT
BEGIN:STANDARD
TZOFFSETFROM:+0200
TZOFFSETTO:+0100
TZNAME:CET
DTSTART:20251026T010000
END:STANDARD
END:VTIMEZONE
BEGIN:VEVENT
DTSTART;TZID=Europe/Berlin:20241114T183000
DTEND;TZID=Europe/Berlin:20241114T200000
DTSTAMP:20260424T184831
CREATED:20241102T194316Z
LAST-MODIFIED:20241102T210056Z
UID:62719-1731609000-1731614400@www.giessener-zeitung.de
SUMMARY:Nistkasten Säuberungs Aktion in der Gemarkung von Niederkleen
DESCRIPTION:An alle Vogel Liebhaber!\n\n\nJetzt ist es an der Zeit\, die Vogelnistkästen zu säubern und für eine gesunde Neubelebung im nächsten Jahr vorzubereiten.\nEs werden freiwillige Helfer gesucht\, die bei der diesjährigen\nNistkasten Säuberungs Aktion in der Niederkleener Gemarkung mithelfen wollen.\n\nZu einer BESPRECHUNG UND AUFGABENVERTEILUNG treffen wir uns\nam: Donnerstag\, den 14.Nov.2024\num: 18:30 Uhr\nim Vereinsraum des Bürgerhauses (Hintereingang\, beim „Alten Haus“)\nAnsprechpartner: K. Rücker\, K. Krill\, J. Langen (06447-6673)\n\n\nWir freuen uns über viele fleissige Mitstreiter\, die dieses Vogelschutzprojekt unterstützen möchten.
URL:https://www.giessener-zeitung.de/event/nistkasten-saeuberungs-aktion-in-der-gemarkung-von-niederkleen/
LOCATION:Vereinsraum im Bürgerhaus Niederkleen
CATEGORIES:Eintritt frei,Freizeit,Live,Open-Air,Vereine
ATTACH;FMTTYPE=image/jpeg:https://www.giessener-zeitung.de/wp-content/uploads/2024/11/464579551_3862201330683857_4955366984311751081_n.jpg
END:VEVENT
BEGIN:VEVENT
DTSTART;TZID=Europe/Berlin:20241122T193000
DTEND;TZID=Europe/Berlin:20241122T193000
DTSTAMP:20260424T184831
CREATED:20241114T001002Z
LAST-MODIFIED:20241114T001002Z
UID:63432-1732303800-1732303800@www.giessener-zeitung.de
SUMMARY:The Keller Theatre presents "Much Ado About Nothing"
DESCRIPTION:A Play by William Shakespeare \nHero and Claudio love each other. Beatrice and Benedick don’t. Or is it the other way round? \nLove\, love\, love…. What a silly thing! \nMuch Ado About Nothing\, one of Shakespeare’s most witty and enjoyable comedies\, explores courtship\, romance and marriage through a number of relationships. And while the protagonists trade their wits and criticize the notion of marriage\, they slowly fall in love – as you do. \nCome and enjoy this never-ending carousel of the trials and tribulations of the thing we all live for – it’s as fresh as ever!\nThe Keller Theatre is looking forward to seeing you. \nTickets:\nAdults : € 14\,- at the box office on show evenings\,\n€ 14\,50 in advance\, \nStudents/Disabled: € 10\,- at the box office on show evenings\,\n€ 10\,50 in advance\, \nTickets available at: Haus der Karten\, Kreuzplatz 6\, 35390 Gießen; (0641) 7957 -60/ -61\nor online: http://tickets.keller-theatre.de\, \nShow Dates : November\, 22\, 29\, 30 and\nDecember 6\, 7\, 13\, 15 2024\, \nShows starts: 7.30 pm (doors open at 7 pm)\, \nKleine Bühne\, Bleichstraße 28\, 35390 Gießen. \nFurther information see: www.keller-theatre.de
URL:https://www.giessener-zeitung.de/event/the-keller-theatre-presents-much-ado-about-nothing/
LOCATION:Kleine Bühne\, Bleichstraße 28\, 35390 Gießen\, Kleine Bühne\, Bleichstraße 28\, Gießen\, Hessen\, 35390\, Deutschland
CATEGORIES:Bildung,Freizeit,Kultur,Theater,Vereine
ATTACH;FMTTYPE=image/jpeg:https://www.giessener-zeitung.de/wp-content/uploads/2024/11/Poster-MAAN-A4.jpg
ORGANIZER;CN="the Keller Theatre":MAILTO:info@keller-theatre.de
END:VEVENT
END:VCALENDAR