BEGIN:VCALENDAR
VERSION:2.0
PRODID:-//Gießener Zeitung - ECPv6.15.20//NONSGML v1.0//EN
CALSCALE:GREGORIAN
METHOD:PUBLISH
X-ORIGINAL-URL:https://www.giessener-zeitung.de
X-WR-CALDESC:Veranstaltungen für Gießener Zeitung
REFRESH-INTERVAL;VALUE=DURATION:PT1H
X-Robots-Tag:noindex
X-PUBLISHED-TTL:PT1H
BEGIN:VTIMEZONE
TZID:Europe/Berlin
BEGIN:DAYLIGHT
TZOFFSETFROM:+0100
TZOFFSETTO:+0200
TZNAME:CEST
DTSTART:20240331T010000
END:DAYLIGHT
BEGIN:STANDARD
TZOFFSETFROM:+0200
TZOFFSETTO:+0100
TZNAME:CET
DTSTART:20241027T010000
END:STANDARD
BEGIN:DAYLIGHT
TZOFFSETFROM:+0100
TZOFFSETTO:+0200
TZNAME:CEST
DTSTART:20250330T010000
END:DAYLIGHT
BEGIN:STANDARD
TZOFFSETFROM:+0200
TZOFFSETTO:+0100
TZNAME:CET
DTSTART:20251026T010000
END:STANDARD
BEGIN:DAYLIGHT
TZOFFSETFROM:+0100
TZOFFSETTO:+0200
TZNAME:CEST
DTSTART:20260329T010000
END:DAYLIGHT
BEGIN:STANDARD
TZOFFSETFROM:+0200
TZOFFSETTO:+0100
TZNAME:CET
DTSTART:20261025T010000
END:STANDARD
END:VTIMEZONE
BEGIN:VEVENT
DTSTART;TZID=Europe/Berlin:20250312T194500
DTEND;TZID=Europe/Berlin:20250312T211500
DTSTAMP:20260422T033531
CREATED:20250219T151706Z
LAST-MODIFIED:20250219T151903Z
UID:66536-1741808700-1741814100@www.giessener-zeitung.de
SUMMARY:Gesellschaftstänze leicht gelernt
DESCRIPTION:
URL:https://www.giessener-zeitung.de/event/gesellschaftstaenze-leicht-gelernt/
LOCATION:35435 Krofdorf-Gleiberg\, Turnhallenstrasse 11 (Mehrzweckhalle)\, Turnhallenstrasse 11\, Krofdorf-Gleiberg\, Hessen\, 35435\, Germany
CATEGORIES:Bildung,Freizeit,Vereine,Workshop
ATTACH;FMTTYPE=image/jpeg:https://www.giessener-zeitung.de/wp-content/uploads/2025/02/Workshop-Gesellschaftstaenze.jpg
ORGANIZER;CN="TSC-Wettenberg e.V.":MAILTO:vorstand@tsc-wettenberg.de
END:VEVENT
END:VCALENDAR