BEGIN:VCALENDAR
VERSION:2.0
PRODID:-//Gießener Zeitung - ECPv6.15.20//NONSGML v1.0//EN
CALSCALE:GREGORIAN
METHOD:PUBLISH
X-WR-CALNAME:Gießener Zeitung
X-ORIGINAL-URL:https://www.giessener-zeitung.de
X-WR-CALDESC:Veranstaltungen für Gießener Zeitung
REFRESH-INTERVAL;VALUE=DURATION:PT1H
X-Robots-Tag:noindex
X-PUBLISHED-TTL:PT1H
BEGIN:VTIMEZONE
TZID:Europe/Berlin
BEGIN:DAYLIGHT
TZOFFSETFROM:+0100
TZOFFSETTO:+0200
TZNAME:CEST
DTSTART:20240331T010000
END:DAYLIGHT
BEGIN:STANDARD
TZOFFSETFROM:+0200
TZOFFSETTO:+0100
TZNAME:CET
DTSTART:20241027T010000
END:STANDARD
BEGIN:DAYLIGHT
TZOFFSETFROM:+0100
TZOFFSETTO:+0200
TZNAME:CEST
DTSTART:20250330T010000
END:DAYLIGHT
BEGIN:STANDARD
TZOFFSETFROM:+0200
TZOFFSETTO:+0100
TZNAME:CET
DTSTART:20251026T010000
END:STANDARD
BEGIN:DAYLIGHT
TZOFFSETFROM:+0100
TZOFFSETTO:+0200
TZNAME:CEST
DTSTART:20260329T010000
END:DAYLIGHT
BEGIN:STANDARD
TZOFFSETFROM:+0200
TZOFFSETTO:+0100
TZNAME:CET
DTSTART:20261025T010000
END:STANDARD
END:VTIMEZONE
BEGIN:VEVENT
DTSTART;TZID=Europe/Berlin:20250215T150000
DTEND;TZID=Europe/Berlin:20250215T163000
DTSTAMP:20260422T114106
CREATED:20250210T170458Z
LAST-MODIFIED:20250210T191646Z
UID:66262-1739631600-1739637000@www.giessener-zeitung.de
SUMMARY:Hessischer Handkäse\, Regional genießen
DESCRIPTION:Wer schon immer mehr über Handkäse wissen wollte ist hier richtig! \nFrau Dörrschuk-Glaser informiert über Handkäse in vielen kreativen Variationen. \nAb 15 Uhr im Kirchenzentrum Niederkleen\, \nHafergärten 6 \n35428 Langgöns Ortsteil Niederkleen \nDies ist eine Veranstaltung der Landfrauen Niederkleen\, es können Landfrauen und nicht Landfrauen daran teilnehmen. Der Eintritt ist frei\, eine Spende ist immer möglich. \nAnmelden bitte bis 12.02.2025 unter 06447-6699 oder landfrauen-nk-do@gmx.de
URL:https://www.giessener-zeitung.de/event/hessischer-handkaese-regional-geniessen/
LOCATION:Kirchenzentrum\, Hafergärten 6\, Langgöns-Niederkleen\, Hessen\, 35428
CATEGORIES:Bildung,Diskussion,Eintritt frei,Freizeit,Gesprächskreis,Kulinarisches,Kultur,Vortrag
ATTACH;FMTTYPE=image/jpeg:https://www.giessener-zeitung.de/wp-content/uploads/2025/02/Landfrauen.jpg
ORGANIZER;CN="Landfrauen Niederkleen-Dornholzhausen":MAILTO:landfrauen-nk-do@gmx.de
END:VEVENT
END:VCALENDAR