BEGIN:VCALENDAR
VERSION:2.0
PRODID:-//Gießener Zeitung - ECPv6.15.20//NONSGML v1.0//EN
CALSCALE:GREGORIAN
METHOD:PUBLISH
X-WR-CALNAME:Gießener Zeitung
X-ORIGINAL-URL:https://www.giessener-zeitung.de
X-WR-CALDESC:Veranstaltungen für Gießener Zeitung
REFRESH-INTERVAL;VALUE=DURATION:PT1H
X-Robots-Tag:noindex
X-PUBLISHED-TTL:PT1H
BEGIN:VTIMEZONE
TZID:Europe/Berlin
BEGIN:DAYLIGHT
TZOFFSETFROM:+0100
TZOFFSETTO:+0200
TZNAME:CEST
DTSTART:20230326T010000
END:DAYLIGHT
BEGIN:STANDARD
TZOFFSETFROM:+0200
TZOFFSETTO:+0100
TZNAME:CET
DTSTART:20231029T010000
END:STANDARD
BEGIN:DAYLIGHT
TZOFFSETFROM:+0100
TZOFFSETTO:+0200
TZNAME:CEST
DTSTART:20240331T010000
END:DAYLIGHT
BEGIN:STANDARD
TZOFFSETFROM:+0200
TZOFFSETTO:+0100
TZNAME:CET
DTSTART:20241027T010000
END:STANDARD
BEGIN:DAYLIGHT
TZOFFSETFROM:+0100
TZOFFSETTO:+0200
TZNAME:CEST
DTSTART:20250330T010000
END:DAYLIGHT
BEGIN:STANDARD
TZOFFSETFROM:+0200
TZOFFSETTO:+0100
TZNAME:CET
DTSTART:20251026T010000
END:STANDARD
END:VTIMEZONE
BEGIN:VEVENT
DTSTART;TZID=Europe/Berlin:20240601T193000
DTEND;TZID=Europe/Berlin:20240601T193000
DTSTAMP:20260423T142407
CREATED:20240501T171627Z
LAST-MODIFIED:20240502T084440Z
UID:55501-1717270200-1717270200@www.giessener-zeitung.de
SUMMARY:The Keller Theatre presents "King" written and performed ​by Pat Kinevane
DESCRIPTION:Alongside the Keller Theatre’s own production FINGERS CROSSED\, the award-winning Irish guest ensemble FISHAMBLE will perform: \n“King” written and performed ​by Pat Kinevane \nKING tells the story of Luther\, a man from Cork named in honour of his Granny Bee Baw’s hero\, Dr Martin Luther King Jr. Luther only leaves his apartment for essential journeys\, and to perform as an Elvis impersonator. The play explores prejudice\, privilege\, and resilience\, as Luther struggles to live life to the full. \nFishamble’s KING by Pat Kinevane opened in Ireland in 2023 and transferred to Dance Base as part of the Edinburgh Festival Fringe where it was nominated for the Mental Health Foundation award and named a Pick of the Fringe.  \nOnly one Performance: \nSat 1 June \nShow begins at 7.30 pm (doors open at 7 pm) \nVenue: Kleine Bühne\, Bleichstraße 28\, 35390 Gießen \nTickets:\n Adult: € 18\,- (advance sale € 18\,50)\n Students/Disabled: € 14\,- (advance sale € 14\,50) \nThe Festival of Irish Theatre is promoted by Zeitgeist Irland 24\, Culture Ireland and the Embassy of Ireland in Germany and the Kulturamt Gießen. \nZeitgeist Irland 24 is an initiative from Culture Ireland and the Embassy of Ireland in Germany to promote Contemporary Irish Arts and Culture in Germany in 2024. \nZeitgeist Irland 24 is a celebration of the richness and diversity of contemporary Irish culture. \nFrom literary greats across the ages\, to Irish traditional music\, dance and performances that have reverberated across the world\, Irish artists have always had a reputation for breaking boundaries. \nWeaving the collective story and experiences of the Irish\, Zeitgeist Irland 24 brings a new generation of Irish artists to German audiences\, continuing to break boundaries and build on their global reputation for cultural excellence. \nFurther information see: www.keller-theatre.de
URL:https://www.giessener-zeitung.de/event/the-keller-theatre-presents-king-written-and-performed-by-pat-kinevane/
LOCATION:Kleine Bühne\, Bleichstraße 28\, 35390 Gießen\, Kleine Bühne\, Bleichstraße 28\, Gießen\, Hessen\, 35390\, Deutschland
CATEGORIES:Bildung,Freizeit,Kultur,Live,Theater,Vereine
ATTACH;FMTTYPE=image/jpeg:https://www.giessener-zeitung.de/wp-content/uploads/2024/05/Festival-of-Irish-Theatre-Poster-scaled.jpg
ORGANIZER;CN="the Keller Theatre":MAILTO:info@keller-theatre.de
END:VEVENT
BEGIN:VEVENT
DTSTART;TZID=Europe/Berlin:20240606T193000
DTEND;TZID=Europe/Berlin:20240606T193000
DTSTAMP:20260423T142407
CREATED:20240501T172008Z
LAST-MODIFIED:20240502T084520Z
UID:55505-1717702200-1717702200@www.giessener-zeitung.de
SUMMARY:The Keller Theatre presents "Bullied" by Michael J. Harnett
DESCRIPTION:Alongside the Keller Theatre’s own production FINGERS CROSSED\, the Irish guest ensemble Dublin Touring Theatre will perform: \n“Bullied” ​by Michael J. Harnett \nAnna (16) is spending mid-term break with Grandad\, who lives alone in the East Wall in Dublin. But Anna is having real problems. Her parents are not getting on and she is being secretly bullied. Sinister texts\, fake invites and nasty online images are making her life hell. \nGrandad too is not having it easy. The gas company are about to cut him off. His bank is bouncing payments. And he can’t get answers to any of his questions. \nBULLIED is a cross-generational play with two people\, 50 years apart in age\, facing up to\, and finally challenging the online and secret world of cyber communication \nPERFORMED BY: Vinnie McCabe and Shauna Brennan \nDIRECTED BY: Vinnie McCabe \nPerformances:\n\n Thu 6 June\n Fri 7 June\n Sat 8 June\n\n Show begins at 7.30 pm (doors open at 7 pm)\n\n Venue: Kleine Bühne\, Bleichstraße 28\, 35390 Gießen\n\n Tickets:\n Adult: € 18\,- (advance sale € 18\,50)\n Students/Disabled: € 14\,- (advance sale € 14\,50)\n\nThe Festival of Irish Theatre is promoted by Zeitgeist Irland 24\, Culture Ireland and the Embassy of Ireland in Germany and the Kulturamt Gießen.  \nZeitgeist Irland 24 is an initiative from Culture Ireland and the Embassy of Ireland in Germany to promote Contemporary Irish Arts and Culture in Germany in 2024.\n\n Zeitgeist Irland 24 is a celebration of the richness and diversity of contemporary Irish culture.\n\n From literary greats across the ages\, to Irish traditional music\, dance and performances that have reverberated across the world\, Irish artists have always had a reputation for breaking boundaries.\n\n Weaving the collective story and experiences of the Irish\, Zeitgeist Irland 24 brings a new generation of Irish artists to German audiences\, continuing to break boundaries and build on their global reputation for cultural excellence.\n\n Further information see: www.keller-theatre.de
URL:https://www.giessener-zeitung.de/event/the-keller-theatre-presents-bullied-by-michael-j-harnett/
LOCATION:Kleine Bühne\, Bleichstraße 28\, 35390 Gießen\, Kleine Bühne\, Bleichstraße 28\, Gießen\, Hessen\, 35390\, Deutschland
CATEGORIES:Bildung,Freizeit,Kultur,Live,Theater,Vereine
ATTACH;FMTTYPE=image/jpeg:https://www.giessener-zeitung.de/wp-content/uploads/2024/05/Festival-of-Irish-Theatre-Poster-scaled.jpg
ORGANIZER;CN="the Keller Theatre":MAILTO:info@keller-theatre.de
END:VEVENT
BEGIN:VEVENT
DTSTART;TZID=Europe/Berlin:20240608T100000
DTEND;TZID=Europe/Berlin:20240608T100000
DTSTAMP:20260423T142407
CREATED:20240501T173148Z
LAST-MODIFIED:20240529T230010Z
UID:55514-1717840800-1717840800@www.giessener-zeitung.de
SUMMARY:The Keller Theatre presents "The Noble Call" Reading of the play by Michael J. Harnett
DESCRIPTION:Alongside the Keller Theatre’s own production FINGERS CROSSED\, the Irish guest ensemble Dublin Touring Theatre will perform: \n“The Noble Call” Reading of the play ​by Michael J. Harnett \nWhen Mona\, the eldest daughter\, discovers a family secret and confronts her terminally-ill father who’s living in a hospice\, he\, after repeatedly denying any knowledge of the reality\, finally admits to the painful truth. The ensuing battle of wits yields a powerful exploration of the trauma that can surface when life is drawing towards its final scene. \nRead by Vinnie McCabe \nOnly one Performance:\n\n Sat 8 June —Matinee Reading (Coffee & Snacks)\n\n Show begins at 10am (doors open at 9.30 am)\n\n Venue: Kleine Bühne\, Bleichstraße 28\, 35390 Gießen\n\n Tickets:\n Adult and Students/Disabled: € 5\,- (advance sale € 5\,50)\n\nThe Festival of Irish Theatre is promoted by Zeitgeist Irland 24\, Culture Ireland and the Embassy of Ireland in Germany and the Kulturamt Gießen. \n Zeitgeist Irland 24 is an initiative from Culture Ireland and the Embassy of Ireland in Germany to promote Contemporary Irish Arts and Culture in Germany in 2024.\n\n Zeitgeist Irland 24 is a celebration of the richness and diversity of contemporary Irish culture.\n\n From literary greats across the ages\, to Irish traditional music\, dance and performances that have reverberated across the world\, Irish artists have always had a reputation for breaking boundaries.\n\n Weaving the collective story and experiences of the Irish\, Zeitgeist Irland 24 brings a new generation of Irish artists to German audiences\, continuing to break boundaries and build on their global reputation for cultural excellence.\n\n Further information see: www.keller-theatre.de
URL:https://www.giessener-zeitung.de/event/the-keller-theatre-presents-the-noble-call-reading-of-the-play-by-michael-j-harnett/
LOCATION:Kleine Bühne\, Bleichstraße 28\, 35390 Gießen\, Kleine Bühne\, Bleichstraße 28\, Gießen\, Hessen\, 35390\, Deutschland
CATEGORIES:Bildung,Freizeit,Kultur,Lesung,Live,Matinée,Theater,Vereine
ATTACH;FMTTYPE=image/jpeg:https://www.giessener-zeitung.de/wp-content/uploads/2024/05/Festival-of-Irish-Theatre-Poster-scaled.jpg
ORGANIZER;CN="the Keller Theatre":MAILTO:info@keller-theatre.de
END:VEVENT
BEGIN:VEVENT
DTSTART;TZID=Europe/Berlin:20240608T193000
DTEND;TZID=Europe/Berlin:20240608T193000
DTSTAMP:20260423T142407
CREATED:20240501T172819Z
LAST-MODIFIED:20240502T083409Z
UID:55512-1717875000-1717875000@www.giessener-zeitung.de
SUMMARY:The Keller Theatre presents "Bullied" by Michael J. Harnett
DESCRIPTION:Alongside the Keller Theatre’s own production FINGERS CROSSED\, the Irish guest ensemble Dublin Touring Theatre will perform: \n“Bullied” ​by Michael J. Harnett \nAnna (16) is spending mid-term break with Grandad\, who lives alone in the East Wall in Dublin. But Anna is having real problems. Her parents are not getting on and she is being secretly bullied. Sinister texts\, fake invites and nasty online images are making her life hell. \nGrandad too is not having it easy. The gas company are about to cut him off. His bank is bouncing payments. And he can’t get answers to any of his questions. \nBULLIED is a cross-generational play with two people\, 50 years apart in age\, facing up to\, and finally challenging the online and secret world of cyber communication \nPERFORMED BY: Vinnie McCabe and Shauna Brennan \nDIRECTED BY: Vinnie McCabe \nPerformances:\n\n Thu 6 June\n Fri 7 June\n Sat 8 June\n\n Show begins at 7.30 pm (doors open at 7 pm)\n\n Venue: Kleine Bühne\, Bleichstraße 28\, 35390 Gießen\n\n Tickets:\n Adult: € 18\,- (advance sale € 18\,50)\n Students/Disabled: € 14\,- (advance sale € 14\,50)\n\nThe Festival of Irish Theatre is promoted by Zeitgeist Irland 24\, Culture Ireland and the Embassy of Ireland in Germany and the Kulturamt Gießen.  \nZeitgeist Irland 24 is an initiative from Culture Ireland and the Embassy of Ireland in Germany to promote Contemporary Irish Arts and Culture in Germany in 2024.\n\n Zeitgeist Irland 24 is a celebration of the richness and diversity of contemporary Irish culture.\n\n From literary greats across the ages\, to Irish traditional music\, dance and performances that have reverberated across the world\, Irish artists have always had a reputation for breaking boundaries.\n\n Weaving the collective story and experiences of the Irish\, Zeitgeist Irland 24 brings a new generation of Irish artists to German audiences\, continuing to break boundaries and build on their global reputation for cultural excellence.\n\n Further information see: www.keller-theatre.de
URL:https://www.giessener-zeitung.de/event/the-keller-theatre-presents-bullied-by-michael-j-harnett-3/
LOCATION:Kleine Bühne\, Bleichstraße 28\, 35390 Gießen\, Kleine Bühne\, Bleichstraße 28\, Gießen\, Hessen\, 35390\, Deutschland
CATEGORIES:Bildung,Freizeit,Kultur,Live,Theater,Vereine
ATTACH;FMTTYPE=image/jpeg:https://www.giessener-zeitung.de/wp-content/uploads/2024/05/Festival-of-Irish-Theatre-Poster-scaled.jpg
ORGANIZER;CN="the Keller Theatre":MAILTO:info@keller-theatre.de
END:VEVENT
BEGIN:VEVENT
DTSTART;TZID=Europe/Berlin:20240614T193000
DTEND;TZID=Europe/Berlin:20240614T210000
DTSTAMP:20260423T142407
CREATED:20240428T230237Z
LAST-MODIFIED:20240502T083912Z
UID:55364-1718393400-1718398800@www.giessener-zeitung.de
SUMMARY:The Keller Theatre presents "Fingers Crossed" by Colette Cullen
DESCRIPTION:Alongside Irish guest ensembles’ performances\, the Keller Theatre will have its own production in collaboration with the Irish author: \nFingers Crossed\, A Play by Colette Cullen: \nTwo very different couples with two very different fertility journeys meet in the waiting room of an IVF clinic. A chance meeting has life-changing consequences. \nSuccessful professional couple Sara and Adam have everything except a baby. During their ten-year marriage they’ve had four failed IUI’s and five failed IVF’s. But they also have history beyond their marriage. \nJessica and Jess\, married four years\, each wanted a baby\, but when it’s Jess’s turn things don’t work out quite as planned. \nWhen those two couples have a chance encounter in the waiting room of a fertility clinic\, a few pressing issues will be discussed\, like “Do you check the weather forecast before proposing?”\, “Do children need to know the business their parents are running?”\, and “Who does the proposing in a same sex relationship?” \nPerformances: \nFri 17 May — Festival Launch (Drinks & Snacks)\nSat 18 May\nFri 31 May\nFri 14 June\nSat 15 June — Festival Closing (Drinks & Snacks) \nShow begins at 7.30 pm (doors open at 7 pm) \nVenue: Kleine Bühne\, Bleichstraße 28\, 35390 Gießen \nTickets:\nAdult: € 14\,- (advance sale € 14\,50)\nStudents/Disabled: € 10\,- (advance sale € 10\,50) \nThe Festival of Irish Theatre is promoted by Zeitgeist Irland 24\, Culture Ireland and the Embassy of Ireland in Germany and the Kulturamt Gießen. \nZeitgeist Irland 24 is an initiative from Culture Ireland and the Embassy of Ireland in Germany to promote Contemporary Irish Arts and Culture in Germany in 2024. \nZeitgeist Irland 24 is a celebration of the richness and diversity of contemporary Irish culture. \nFrom literary greats across the ages\, to Irish traditional music\, dance and performances that have reverberated across the world\, Irish artists have always had a reputation for breaking boundaries. \nWeaving the collective story and experiences of the Irish\, Zeitgeist Irland 24 brings a new generation of Irish artists to German audiences\, continuing to break boundaries and build on their global reputation for cultural excellence. \nFurther information see: www.keller-theatre.de
URL:https://www.giessener-zeitung.de/event/the-keller-theatre-presents-fingers-crossed-by-colette-cullen-4/
LOCATION:Kleine Bühne\, Bleichstraße 28\, 35390 Gießen\, Kleine Bühne\, Bleichstraße 28\, Gießen\, Hessen\, 35390\, Deutschland
CATEGORIES:Kultur,Theater
ATTACH;FMTTYPE=image/jpeg:https://www.giessener-zeitung.de/wp-content/uploads/2024/04/Keller-Theatre_Irish_Festival_Fingers_Crossed-scaled.jpg
ORGANIZER;CN="the Keller Theatre":MAILTO:info@keller-theatre.de
END:VEVENT
BEGIN:VEVENT
DTSTART;TZID=Europe/Berlin:20240615T193000
DTEND;TZID=Europe/Berlin:20240615T210000
DTSTAMP:20260423T142407
CREATED:20240428T230515Z
LAST-MODIFIED:20240502T083802Z
UID:55366-1718479800-1718485200@www.giessener-zeitung.de
SUMMARY:The Keller Theatre presents "Fingers Crossed" by Colette Cullen
DESCRIPTION:Alongside Irish guest ensembles’ performances\, the Keller Theatre will have its own production in collaboration with the Irish author: \nFingers Crossed\, A Play by Colette Cullen: \nTwo very different couples with two very different fertility journeys meet in the waiting room of an IVF clinic. A chance meeting has life-changing consequences. \nSuccessful professional couple Sara and Adam have everything except a baby. During their ten-year marriage they’ve had four failed IUI’s and five failed IVF’s. But they also have history beyond their marriage. \nJessica and Jess\, married four years\, each wanted a baby\, but when it’s Jess’s turn things don’t work out quite as planned. \nWhen those two couples have a chance encounter in the waiting room of a fertility clinic\, a few pressing issues will be discussed\, like “Do you check the weather forecast before proposing?”\, “Do children need to know the business their parents are running?”\, and “Who does the proposing in a same sex relationship?” \nPerformances: \nFri 17 May — Festival Launch (Drinks & Snacks)\nSat 18 May\nFri 31 May\nFri 14 June\nSat 15 June — Festival Closing (Drinks & Snacks) \nShow begins at 7.30 pm (doors open at 7 pm) \nVenue: Kleine Bühne\, Bleichstraße 28\, 35390 Gießen \nTickets:\nAdult: € 14\,- (advance sale € 14\,50)\nStudents/Disabled: € 10\,- (advance sale € 10\,50) \nThe Festival of Irish Theatre is promoted by Zeitgeist Irland 24\, Culture Ireland and the Embassy of Ireland in Germany and the Kulturamt Gießen. \nZeitgeist Irland 24 is an initiative from Culture Ireland and the Embassy of Ireland in Germany to promote Contemporary Irish Arts and Culture in Germany in 2024. \nZeitgeist Irland 24 is a celebration of the richness and diversity of contemporary Irish culture. \nFrom literary greats across the ages\, to Irish traditional music\, dance and performances that have reverberated across the world\, Irish artists have always had a reputation for breaking boundaries. \nWeaving the collective story and experiences of the Irish\, Zeitgeist Irland 24 brings a new generation of Irish artists to German audiences\, continuing to break boundaries and build on their global reputation for cultural excellence. \nFurther information see: www.keller-theatre.de
URL:https://www.giessener-zeitung.de/event/the-keller-theatre-presents-fingers-crossed-by-colette-cullen-5/
LOCATION:Kleine Bühne\, Bleichstraße 28\, 35390 Gießen\, Kleine Bühne\, Bleichstraße 28\, Gießen\, Hessen\, 35390\, Deutschland
CATEGORIES:Kultur,Theater,Vereine
ATTACH;FMTTYPE=image/jpeg:https://www.giessener-zeitung.de/wp-content/uploads/2024/04/Keller-Theatre_Irish_Festival_Fingers_Crossed-scaled.jpg
ORGANIZER;CN="the Keller Theatre":MAILTO:info@keller-theatre.de
END:VEVENT
END:VCALENDAR