BEGIN:VCALENDAR
VERSION:2.0
PRODID:-//Gießener Zeitung - ECPv6.15.20//NONSGML v1.0//EN
CALSCALE:GREGORIAN
METHOD:PUBLISH
X-ORIGINAL-URL:https://www.giessener-zeitung.de
X-WR-CALDESC:Veranstaltungen für Gießener Zeitung
REFRESH-INTERVAL;VALUE=DURATION:PT1H
X-Robots-Tag:noindex
X-PUBLISHED-TTL:PT1H
BEGIN:VTIMEZONE
TZID:Europe/Berlin
BEGIN:DAYLIGHT
TZOFFSETFROM:+0100
TZOFFSETTO:+0200
TZNAME:CEST
DTSTART:20230326T010000
END:DAYLIGHT
BEGIN:STANDARD
TZOFFSETFROM:+0200
TZOFFSETTO:+0100
TZNAME:CET
DTSTART:20231029T010000
END:STANDARD
BEGIN:DAYLIGHT
TZOFFSETFROM:+0100
TZOFFSETTO:+0200
TZNAME:CEST
DTSTART:20240331T010000
END:DAYLIGHT
BEGIN:STANDARD
TZOFFSETFROM:+0200
TZOFFSETTO:+0100
TZNAME:CET
DTSTART:20241027T010000
END:STANDARD
BEGIN:DAYLIGHT
TZOFFSETFROM:+0100
TZOFFSETTO:+0200
TZNAME:CEST
DTSTART:20250330T010000
END:DAYLIGHT
BEGIN:STANDARD
TZOFFSETFROM:+0200
TZOFFSETTO:+0100
TZNAME:CET
DTSTART:20251026T010000
END:STANDARD
END:VTIMEZONE
BEGIN:VEVENT
DTSTART;TZID=Europe/Berlin:20240517T193000
DTEND;TZID=Europe/Berlin:20240517T210000
DTSTAMP:20260423T125122
CREATED:20240428T222925Z
LAST-MODIFIED:20240502T084051Z
UID:55352-1715974200-1715979600@www.giessener-zeitung.de
SUMMARY:The Keller Theatre presents "Fingers Crossed" by Colette Cullen
DESCRIPTION:Alongside Irish guest ensembles’ performances\, the Keller Theatre will have its own production in collaboration with the Irish author: \nFingers Crossed\, A Play by Colette Cullen: \nTwo very different couples with two very different fertility journeys meet in the waiting room of an IVF clinic. A chance meeting has life-changing consequences. \nSuccessful professional couple Sara and Adam have everything except a baby. During their ten-year marriage they’ve had four failed IUI’s and five failed IVF’s. But they also have history beyond their marriage. \nJessica and Jess\, married four years\, each wanted a baby\, but when it’s Jess’s turn things don’t work out quite as planned. \nWhen those two couples have a chance encounter in the waiting room of a fertility clinic\, a few pressing issues will be discussed\, like “Do you check the weather forecast before proposing?”\, “Do children need to know the business their parents are running?”\, and “Who does the proposing in a same sex relationship?” \nPerformances: \nFri 17 May — Festival Launch (Drinks & Snacks)\nSat 18 May\nFri 31 May\nFri 14 June\nSat 15 June — Festival Closing (Drinks & Snacks) \nShow begins at 7.30 pm (doors open at 7 pm) \nVenue: Kleine Bühne\, Bleichstraße 28\, 35390 Gießen \nTickets:\nAdult: € 14\,- (advance sale € 14\,50)\nStudents/Disabled: € 10\,- (advance sale € 10\,50) \nThe Festival of Irish Theatre is promoted by Zeitgeist Irland 24\, Culture Ireland and the Embassy of Ireland in Germany and the Kulturamt Gießen. \nZeitgeist Irland 24 is an initiative from Culture Ireland and the Embassy of Ireland in Germany to promote Contemporary Irish Arts and Culture in Germany in 2024. \nZeitgeist Irland 24 is a celebration of the richness and diversity of contemporary Irish culture. \nFrom literary greats across the ages\, to Irish traditional music\, dance and performances that have reverberated across the world\, Irish artists have always had a reputation for breaking boundaries. \nWeaving the collective story and experiences of the Irish\, Zeitgeist Irland 24 brings a new generation of Irish artists to German audiences\, continuing to break boundaries and build on their global reputation for cultural excellence. \nFurther information see: www.keller-theatre.de
URL:https://www.giessener-zeitung.de/event/the-keller-theatre-presents-fingers-crossed-by-colette-cullen/
LOCATION:Kleine Bühne\, Bleichstraße 28\, 35390 Gießen\, Kleine Bühne\, Bleichstraße 28\, Gießen\, Hessen\, 35390\, Deutschland
CATEGORIES:Kultur,Theater
ATTACH;FMTTYPE=image/jpeg:https://www.giessener-zeitung.de/wp-content/uploads/2024/04/Keller-Theatre_Irish_Festival_Fingers_Crossed-scaled.jpg
ORGANIZER;CN="the Keller Theatre":MAILTO:info@keller-theatre.de
END:VEVENT
BEGIN:VEVENT
DTSTART;TZID=Europe/Berlin:20240518T193000
DTEND;TZID=Europe/Berlin:20240518T210000
DTSTAMP:20260423T125122
CREATED:20240428T225420Z
LAST-MODIFIED:20240502T084122Z
UID:55357-1716060600-1716066000@www.giessener-zeitung.de
SUMMARY:The Keller Theatre presents "Fingers Crossed" by Colette Cullen
DESCRIPTION:Alongside Irish guest ensembles’ performances\, the Keller Theatre will have its own production in collaboration with the Irish author: \nFingers Crossed\, A Play by Colette Cullen: \nTwo very different couples with two very different fertility journeys meet in the waiting room of an IVF clinic. A chance meeting has life-changing consequences. \nSuccessful professional couple Sara and Adam have everything except a baby. During their ten-year marriage they’ve had four failed IUI’s and five failed IVF’s. But they also have history beyond their marriage. \nJessica and Jess\, married four years\, each wanted a baby\, but when it’s Jess’s turn things don’t work out quite as planned. \nWhen those two couples have a chance encounter in the waiting room of a fertility clinic\, a few pressing issues will be discussed\, like “Do you check the weather forecast before proposing?”\, “Do children need to know the business their parents are running?”\, and “Who does the proposing in a same sex relationship?” \nPerformances: \nFri 17 May — Festival Launch (Drinks & Snacks)\nSat 18 May\nFri 31 May\nFri 14 June\nSat 15 June — Festival Closing (Drinks & Snacks) \nShow begins at 7.30 pm (doors open at 7 pm) \nVenue: Kleine Bühne\, Bleichstraße 28\, 35390 Gießen \nTickets:\nAdult: € 14\,- (advance sale € 14\,50)\nStudents/Disabled: € 10\,- (advance sale € 10\,50) \nThe Festival of Irish Theatre is promoted by Zeitgeist Irland 24\, Culture Ireland and the Embassy of Ireland in Germany and the Kulturamt Gießen. \nZeitgeist Irland 24 is an initiative from Culture Ireland and the Embassy of Ireland in Germany to promote Contemporary Irish Arts and Culture in Germany in 2024. \nZeitgeist Irland 24 is a celebration of the richness and diversity of contemporary Irish culture. \nFrom literary greats across the ages\, to Irish traditional music\, dance and performances that have reverberated across the world\, Irish artists have always had a reputation for breaking boundaries. \nWeaving the collective story and experiences of the Irish\, Zeitgeist Irland 24 brings a new generation of Irish artists to German audiences\, continuing to break boundaries and build on their global reputation for cultural excellence. \nFurther information see: www.keller-theatre.de
URL:https://www.giessener-zeitung.de/event/the-keller-theatre-presents-fingers-crossed-by-colette-cullen-2/
LOCATION:Kleine Bühne\, Bleichstraße 28\, 35390 Gießen\, Kleine Bühne\, Bleichstraße 28\, Gießen\, Hessen\, 35390\, Deutschland
CATEGORIES:Kultur,Theater
ATTACH;FMTTYPE=image/jpeg:https://www.giessener-zeitung.de/wp-content/uploads/2024/04/Keller-Theatre_Irish_Festival_Fingers_Crossed-scaled.jpg
ORGANIZER;CN="the Keller Theatre":MAILTO:info@keller-theatre.de
END:VEVENT
BEGIN:VEVENT
DTSTART;TZID=Europe/Berlin:20240528T193000
DTEND;TZID=Europe/Berlin:20240528T193000
DTSTAMP:20260423T125122
CREATED:20240501T171122Z
LAST-MODIFIED:20240502T084328Z
UID:55484-1716924600-1716924600@www.giessener-zeitung.de
SUMMARY:The Keller Theatre presents "Mustard" written and performed ​by Eva O’Connor
DESCRIPTION:The Keller Theatre presents “Mustard” written and performed ​by Eva O’Connor \nAlongside the Keller Theatre’s own production FINGERS CROSSED\, the award-winning Irish guest ensemble FISHAMBLE will perform: \n“Mustard” written and performed ​by Eva O’Connor \nWhen E meets the man of her dreams\, a professional cyclist\, love hits her in the pubic bone like a train. But when it ends she plummets into a black hole of heartbreak at the speed of a doped up team on the Tour de France. \n​A one-woman show about heartbreak\, madness and how condiments are the ultimate coping mechanism\, by award-winning playwright & performer Eva O’Connor. \nOnly one Performance: \nTue 28 May \nShow begins at 7.30 pm (doors open at 7 pm) \nVenue: Kleine Bühne\, Bleichstraße 28\, 35390 Gießen \nTickets:\n Adult: € 18\,- (advance sale € 18\,50)\n Students/Disabled: € 14\,- (advance sale € 14\,50) \nThe Festival of Irish Theatre is promoted by Zeitgeist Irland 24\, Culture Ireland and the Embassy of Ireland in Germany and the Kulturamt Gießen. \nZeitgeist Irland 24 is an initiative from Culture Ireland and the Embassy of Ireland in Germany to promote Contemporary Irish Arts and Culture in Germany in 2024. \nZeitgeist Irland 24 is a celebration of the richness and diversity of contemporary Irish culture. \nFrom literary greats across the ages\, to Irish traditional music\, dance and performances that have reverberated across the world\, Irish artists have always had a reputation for breaking boundaries. \nWeaving the collective story and experiences of the Irish\, Zeitgeist Irland 24 brings a new generation of Irish artists to German audiences\, continuing to break boundaries and build on their global reputation for cultural excellence. \nFurther information see: www.keller-theatre.de
URL:https://www.giessener-zeitung.de/event/the-keller-theatre-presents-mustard-written-and-performed-by-eva-oconnor/
LOCATION:Kleine Bühne\, Bleichstraße 28\, 35390 Gießen\, Kleine Bühne\, Bleichstraße 28\, Gießen\, Hessen\, 35390\, Deutschland
CATEGORIES:Bildung,Freizeit,Kultur,Live,Theater,Vereine
ATTACH;FMTTYPE=image/jpeg:https://www.giessener-zeitung.de/wp-content/uploads/2024/05/Festival-of-Irish-Theatre-Poster-scaled.jpg
ORGANIZER;CN="the Keller Theatre":MAILTO:info@keller-theatre.de
END:VEVENT
BEGIN:VEVENT
DTSTART;TZID=Europe/Berlin:20240531T193000
DTEND;TZID=Europe/Berlin:20240531T210000
DTSTAMP:20260423T125122
CREATED:20240428T225946Z
LAST-MODIFIED:20240502T084359Z
UID:55362-1717183800-1717189200@www.giessener-zeitung.de
SUMMARY:The Keller Theatre presents "Fingers Crossed" by Colette Cullen
DESCRIPTION:Alongside Irish guest ensembles’ performances\, the Keller Theatre will have its own production in collaboration with the Irish author: \nFingers Crossed\, A Play by Colette Cullen: \nTwo very different couples with two very different fertility journeys meet in the waiting room of an IVF clinic. A chance meeting has life-changing consequences. \nSuccessful professional couple Sara and Adam have everything except a baby. During their ten-year marriage they’ve had four failed IUI’s and five failed IVF’s. But they also have history beyond their marriage. \nJessica and Jess\, married four years\, each wanted a baby\, but when it’s Jess’s turn things don’t work out quite as planned. \nWhen those two couples have a chance encounter in the waiting room of a fertility clinic\, a few pressing issues will be discussed\, like “Do you check the weather forecast before proposing?”\, “Do children need to know the business their parents are running?”\, and “Who does the proposing in a same sex relationship?” \nPerformances: \nFri 17 May — Festival Launch (Drinks & Snacks)\nSat 18 May\nFri 31 May\nFri 14 June\nSat 15 June — Festival Closing (Drinks & Snacks) \nShow begins at 7.30 pm (doors open at 7 pm) \nVenue: Kleine Bühne\, Bleichstraße 28\, 35390 Gießen \nTickets:\nAdult: € 14\,- (advance sale € 14\,50)\nStudents/Disabled: € 10\,- (advance sale € 10\,50) \nThe Festival of Irish Theatre is promoted by Zeitgeist Irland 24\, Culture Ireland and the Embassy of Ireland in Germany and the Kulturamt Gießen. \nZeitgeist Irland 24 is an initiative from Culture Ireland and the Embassy of Ireland in Germany to promote Contemporary Irish Arts and Culture in Germany in 2024. \nZeitgeist Irland 24 is a celebration of the richness and diversity of contemporary Irish culture. \nFrom literary greats across the ages\, to Irish traditional music\, dance and performances that have reverberated across the world\, Irish artists have always had a reputation for breaking boundaries. \nWeaving the collective story and experiences of the Irish\, Zeitgeist Irland 24 brings a new generation of Irish artists to German audiences\, continuing to break boundaries and build on their global reputation for cultural excellence. \nFurther information see: www.keller-theatre.de
URL:https://www.giessener-zeitung.de/event/the-keller-theatre-presents-fingers-crossed-by-colette-cullen-3/
LOCATION:Kleine Bühne\, Bleichstraße 28\, 35390 Gießen\, Kleine Bühne\, Bleichstraße 28\, Gießen\, Hessen\, 35390\, Deutschland
CATEGORIES:Kultur,Theater
ATTACH;FMTTYPE=image/jpeg:https://www.giessener-zeitung.de/wp-content/uploads/2024/04/Keller-Theatre_Irish_Festival_Fingers_Crossed-scaled.jpg
ORGANIZER;CN="the Keller Theatre":MAILTO:info@keller-theatre.de
END:VEVENT
END:VCALENDAR