BEGIN:VCALENDAR
VERSION:2.0
PRODID:-//Gießener Zeitung - ECPv6.15.20//NONSGML v1.0//EN
CALSCALE:GREGORIAN
METHOD:PUBLISH
X-WR-CALNAME:Gießener Zeitung
X-ORIGINAL-URL:https://www.giessener-zeitung.de
X-WR-CALDESC:Veranstaltungen für Gießener Zeitung
REFRESH-INTERVAL;VALUE=DURATION:PT1H
X-Robots-Tag:noindex
X-PUBLISHED-TTL:PT1H
BEGIN:VTIMEZONE
TZID:Europe/Berlin
BEGIN:DAYLIGHT
TZOFFSETFROM:+0100
TZOFFSETTO:+0200
TZNAME:CEST
DTSTART:20230326T010000
END:DAYLIGHT
BEGIN:STANDARD
TZOFFSETFROM:+0200
TZOFFSETTO:+0100
TZNAME:CET
DTSTART:20231029T010000
END:STANDARD
BEGIN:DAYLIGHT
TZOFFSETFROM:+0100
TZOFFSETTO:+0200
TZNAME:CEST
DTSTART:20240331T010000
END:DAYLIGHT
BEGIN:STANDARD
TZOFFSETFROM:+0200
TZOFFSETTO:+0100
TZNAME:CET
DTSTART:20241027T010000
END:STANDARD
BEGIN:DAYLIGHT
TZOFFSETFROM:+0100
TZOFFSETTO:+0200
TZNAME:CEST
DTSTART:20250330T010000
END:DAYLIGHT
BEGIN:STANDARD
TZOFFSETFROM:+0200
TZOFFSETTO:+0100
TZNAME:CET
DTSTART:20251026T010000
END:STANDARD
END:VTIMEZONE
BEGIN:VEVENT
DTSTART;TZID=Europe/Berlin:20240301T193000
DTEND;TZID=Europe/Berlin:20240301T214500
DTSTAMP:20260419T200911
CREATED:20240207T232457Z
LAST-MODIFIED:20240207T232457Z
UID:51912-1709321400-1709329500@www.giessener-zeitung.de
SUMMARY:the Keller Theatre presents "Nobody´s Perfect" by Simon Williams
DESCRIPTION:Nobody´s Perfect\, a comedy by Simon Williams \nLeonard – a single parent and statistician in home office – seems lonely and boring to his very teenage daughter and his fun-loving father. What they don’t know is that Leonard is writing romantic fiction. At last he has a chance of publishing a book\, but there is a slight problem. The author must be a woman… \nTickets: \nAdult : € 14\,- (advance sale € 14\,50)\nStudents / Disabled : € 10\,- (advance sale € 10\,50) Please present your student/disabled ID card on show nights. \nAdvance sale: Haus der Karten\, Kreuzplatz 6\, 35390 Gießen; (0641) 7957 -60/ -61 oder online: http://tickets.keller-theatre.de \nPerformances: February 23\, March 1.\, 2.\, 8.\, 9.\, 15.\, 16\, 2024 \nTime: 7.30 pm (doors open at 7 pm) \nThere will be an intermission of about twenty minutes. The performance will run till about 9.45 pm \nVenue: Kleine Bühne\, Bleichstraße 28\, 35390 Gießen. \nFurther information about accessing the Kleine Bühne and parking see www.keller-theatre.de \nThe Keller Theatre is looking forward to seeing you at this hilarious show.
URL:https://www.giessener-zeitung.de/event/the-keller-theatre-presents-nobodys-perfect-by-simon-williams-2/
LOCATION:Kleine Bühne\, Bleichstraße 28\, 35390 Gießen\, Kleine Bühne\, Bleichstraße 28\, Gießen\, Hessen\, 35390\, Deutschland
CATEGORIES:Freizeit,Kultur,Theater,Vereine
ATTACH;FMTTYPE=image/jpeg:https://www.giessener-zeitung.de/wp-content/uploads/2024/02/Nobody´s-Perfect-Poster.jpg
ORGANIZER;CN="the Keller Theatre":MAILTO:info@keller-theatre.de
END:VEVENT
BEGIN:VEVENT
DTSTART;TZID=Europe/Berlin:20240302T193000
DTEND;TZID=Europe/Berlin:20240302T214500
DTSTAMP:20260419T200911
CREATED:20240207T232909Z
LAST-MODIFIED:20240207T232909Z
UID:51914-1709407800-1709415900@www.giessener-zeitung.de
SUMMARY:the Keller Theatre presents "Nobody´s Perfect" by Simon Williams
DESCRIPTION:Nobody´s Perfect\, a comedy by Simon Williams \nLeonard – a single parent and statistician in home office – seems lonely and boring to his very teenage daughter and his fun-loving father. What they don’t know is that Leonard is writing romantic fiction. At last he has a chance of publishing a book\, but there is a slight problem. The author must be a woman… \nTickets: \nAdult : € 14\,- (advance sale € 14\,50)\nStudents / Disabled : € 10\,- (advance sale € 10\,50) Please present your student/disabled ID card on show nights. \nAdvance sale: Haus der Karten\, Kreuzplatz 6\, 35390 Gießen; (0641) 7957 -60/ -61 oder online: http://tickets.keller-theatre.de \nPerformances: February 23\, March 1.\, 2.\, 8.\, 9.\, 15.\, 16\, 2024 \nTime: 7.30 pm (doors open at 7 pm) \nThere will be an intermission of about twenty minutes. The performance will run till about 9.45 pm \nVenue: Kleine Bühne\, Bleichstraße 28\, 35390 Gießen. \nFurther information about accessing the Kleine Bühne and parking see www.keller-theatre.de \nThe Keller Theatre is looking forward to seeing you at this hilarious show.
URL:https://www.giessener-zeitung.de/event/the-keller-theatre-presents-nobodys-perfect-by-simon-williams-3/
LOCATION:Kleine Bühne\, Bleichstraße 28\, 35390 Gießen\, Kleine Bühne\, Bleichstraße 28\, Gießen\, Hessen\, 35390\, Deutschland
CATEGORIES:Freizeit,Kultur,Theater,Vereine
ATTACH;FMTTYPE=image/jpeg:https://www.giessener-zeitung.de/wp-content/uploads/2024/02/Nobody´s-Perfect-Poster.jpg
ORGANIZER;CN="the Keller Theatre":MAILTO:info@keller-theatre.de
END:VEVENT
BEGIN:VEVENT
DTSTART;TZID=Europe/Berlin:20240307T190000
DTEND;TZID=Europe/Berlin:20240307T190000
DTSTAMP:20260419T200911
CREATED:20240229T191443Z
LAST-MODIFIED:20240229T191443Z
UID:52726-1709838000-1709838000@www.giessener-zeitung.de
SUMMARY:The Keller Theatre: Auditions for "Fingers Crossed"
DESCRIPTION:The Keller Theatre invites you to Auditions for “Fingers Crossed” by Colette Cullen \nWhen: \nTue 5 March 2024\nThu 7 March 2024 \nat 7 pm \nWhere: Kleine Bühne\, Bleichstraße 28\, 35390 Gießen \nPlease contact us:  info@keller-theatre.de \nWe need …\nOn stage:\n3 women (playing age 20 – 40)\n1 man (playing age 20 – 40) \nBackstage:\nassistand director / production assistant\nstage and props manager \nRehearsals:\nTuesday and Thursday evenings and some Saturday mornings \nEverybody is welcome\, no experience or preparation needed. \nMore info see www.keller-theatre.de \nThis show is part of the Festival of Irish Theatre\nThe Festival of Irish Theatre is part of Zeitgeist Irland 24\, an initiative of Culture Ireland and the Embassy of Ireland in Germany. It is also promoted by Kulturamt Gießen. \nPerformance dates:\n17\, 18\, 31 May & 14\, 15 June 2024 \nDirector:\nMartin P. Koob \nAbout the play \nTwo very different couples with two very different fertility journeys meet in the waiting room of an IVF clinic. A chance meeting has life-changing consequences. \nSuccessful professional couple Sara and Adam have everything except a baby. During their ten-year marriage they’ve had four failed IUI’s and five failed IVF’s. But they also have history beyond their marriage. \nJessica and Jess\, married four years\, each wanted a baby\, but when it’s Jess’s turn things don’t work out quite as planned. \nWhen those two couples have a chance encounter in the waiting room of a fertility clinic\, a few pressing issues will be discussed\, like “Do you check the weather forecast before proposing?”\, “Do children need to know the business their parents are running?”\, and “Who does the proposing in a same sex relationship?” \n 
URL:https://www.giessener-zeitung.de/event/the-keller-theatre-auditions-for-fingers-crossed-2/
LOCATION:Kleine Bühne\, Bleichstraße 28\, 35390 Gießen\, Kleine Bühne\, Bleichstraße 28\, Gießen\, Hessen\, 35390\, Deutschland
CATEGORIES:Freizeit,Kultur,Theater,Vereine
ATTACH;FMTTYPE=image/jpeg:https://www.giessener-zeitung.de/wp-content/uploads/2024/02/Auditions_Irish-Festival-2024-scaled.jpg
ORGANIZER;CN="the Keller Theatre":MAILTO:info@keller-theatre.de
END:VEVENT
BEGIN:VEVENT
DTSTART;TZID=Europe/Berlin:20240308T193000
DTEND;TZID=Europe/Berlin:20240308T214500
DTSTAMP:20260419T200911
CREATED:20240207T234156Z
LAST-MODIFIED:20240207T234156Z
UID:51920-1709926200-1709934300@www.giessener-zeitung.de
SUMMARY:The Keller Theatre presents "Nobody´s Perfect" by Simon Williams
DESCRIPTION:Nobody´s Perfect\, a comedy by Simon Williams \nLeonard – a single parent and statistician in home office – seems lonely and boring to his very teenage daughter and his fun-loving father. What they don’t know is that Leonard is writing romantic fiction. At last he has a chance of publishing a book\, but there is a slight problem. The author must be a woman… \nTickets: \nAdult : € 14\,- (advance sale € 14\,50)\nStudents / Disabled : € 10\,- (advance sale € 10\,50) Please present your student/disabled ID card on show nights. \nAdvance sale: Haus der Karten\, Kreuzplatz 6\, 35390 Gießen; (0641) 7957 -60/ -61 oder online: http://tickets.keller-theatre.de \nPerformances: February 23\, March 1.\, 2.\, 8.\, 9.\, 15.\, 16\, 2024 \nTime: 7.30 pm (doors open at 7 pm) \nThere will be an intermission of about twenty minutes. The performance will run till about 9.45 pm \nVenue: Kleine Bühne\, Bleichstraße 28\, 35390 Gießen. \nFurther information about accessing the Kleine Bühne and parking see www.keller-theatre.de \nThe Keller Theatre is looking forward to seeing you at this hilarious show.
URL:https://www.giessener-zeitung.de/event/the-keller-theatre-presents-nobodys-perfect-by-simon-williams-4/
LOCATION:Kleine Bühne\, Bleichstraße 28\, 35390 Gießen\, Kleine Bühne\, Bleichstraße 28\, Gießen\, Hessen\, 35390\, Deutschland
CATEGORIES:Freizeit,Kultur,Theater,Vereine
ATTACH;FMTTYPE=image/jpeg:https://www.giessener-zeitung.de/wp-content/uploads/2024/02/Nobody´s-Perfect-Poster.jpg
ORGANIZER;CN="the Keller Theatre":MAILTO:info@keller-theatre.de
END:VEVENT
BEGIN:VEVENT
DTSTART;TZID=Europe/Berlin:20240309T193000
DTEND;TZID=Europe/Berlin:20240309T214500
DTSTAMP:20260419T200911
CREATED:20240207T234513Z
LAST-MODIFIED:20240207T234513Z
UID:51922-1710012600-1710020700@www.giessener-zeitung.de
SUMMARY:the Keller Theatre presents "Nobody´s Perfect" by Simon Williams
DESCRIPTION:Nobody´s Perfect\, a comedy by Simon Williams \nLeonard – a single parent and statistician in home office – seems lonely and boring to his very teenage daughter and his fun-loving father. What they don’t know is that Leonard is writing romantic fiction. At last he has a chance of publishing a book\, but there is a slight problem. The author must be a woman… \nTickets: \nAdult : € 14\,- (advance sale € 14\,50)\nStudents / Disabled : € 10\,- (advance sale € 10\,50) Please present your student/disabled ID card on show nights. \nAdvance sale: Haus der Karten\, Kreuzplatz 6\, 35390 Gießen; (0641) 7957 -60/ -61 oder online: http://tickets.keller-theatre.de \nPerformances: February 23\, March 1.\, 2.\, 8.\, 9.\, 15.\, 16\, 2024 \nTime: 7.30 pm (doors open at 7 pm) \nThere will be an intermission of about twenty minutes. The performance will run till about 9.45 pm \nVenue: Kleine Bühne\, Bleichstraße 28\, 35390 Gießen. \nFurther information about accessing the Kleine Bühne and parking see www.keller-theatre.de \nThe Keller Theatre is looking forward to seeing you at this hilarious show.
URL:https://www.giessener-zeitung.de/event/the-keller-theatre-presents-nobodys-perfect-by-simon-williams-5/
LOCATION:Kleine Bühne\, Bleichstraße 28\, 35390 Gießen\, Kleine Bühne\, Bleichstraße 28\, Gießen\, Hessen\, 35390\, Deutschland
CATEGORIES:Freizeit,Kultur,Theater,Vereine
ATTACH;FMTTYPE=image/jpeg:https://www.giessener-zeitung.de/wp-content/uploads/2024/02/Nobody´s-Perfect-Poster.jpg
ORGANIZER;CN="the Keller Theatre":MAILTO:info@keller-theatre.de
END:VEVENT
BEGIN:VEVENT
DTSTART;TZID=Europe/Berlin:20240315T193000
DTEND;TZID=Europe/Berlin:20240315T214500
DTSTAMP:20260419T200911
CREATED:20240207T234803Z
LAST-MODIFIED:20240207T234803Z
UID:51924-1710531000-1710539100@www.giessener-zeitung.de
SUMMARY:the Keller Theatre presents "Nobody´s Perfect" by Simon Williams
DESCRIPTION:Nobody´s Perfect\, a comedy by Simon Williams \nLeonard – a single parent and statistician in home office – seems lonely and boring to his very teenage daughter and his fun-loving father. What they don’t know is that Leonard is writing romantic fiction. At last he has a chance of publishing a book\, but there is a slight problem. The author must be a woman… \nTickets: \nAdult : € 14\,- (advance sale € 14\,50)\nStudents / Disabled : € 10\,- (advance sale € 10\,50) Please present your student/disabled ID card on show nights. \nAdvance sale: Haus der Karten\, Kreuzplatz 6\, 35390 Gießen; (0641) 7957 -60/ -61 oder online: http://tickets.keller-theatre.de \nPerformances: February 23\, March 1.\, 2.\, 8.\, 9.\, 15.\, 16\, 2024 \nTime: 7.30 pm (doors open at 7 pm) \nThere will be an intermission of about twenty minutes. The performance will run till about 9.45 pm \nVenue: Kleine Bühne\, Bleichstraße 28\, 35390 Gießen. \nFurther information about accessing the Kleine Bühne and parking see www.keller-theatre.de \nThe Keller Theatre is looking forward to seeing you at this hilarious show.
URL:https://www.giessener-zeitung.de/event/the-keller-theatre-presents-nobodys-perfect-by-simon-williams-6/
LOCATION:Kleine Bühne\, Bleichstraße 28\, 35390 Gießen\, Kleine Bühne\, Bleichstraße 28\, Gießen\, Hessen\, 35390\, Deutschland
CATEGORIES:Freizeit,Kultur,Theater,Vereine
ATTACH;FMTTYPE=image/jpeg:https://www.giessener-zeitung.de/wp-content/uploads/2024/02/Nobody´s-Perfect-Poster.jpg
ORGANIZER;CN="the Keller Theatre":MAILTO:info@keller-theatre.de
END:VEVENT
BEGIN:VEVENT
DTSTART;TZID=Europe/Berlin:20240316T193000
DTEND;TZID=Europe/Berlin:20240316T214500
DTSTAMP:20260419T200911
CREATED:20240207T235331Z
LAST-MODIFIED:20240207T235331Z
UID:51926-1710617400-1710625500@www.giessener-zeitung.de
SUMMARY:the Keller Theatre presents "Nobody´s Perfect" by Simon Williams
DESCRIPTION:Nobody´s Perfect\, a comedy by Simon Williams \nLeonard – a single parent and statistician in home office – seems lonely and boring to his very teenage daughter and his fun-loving father. What they don’t know is that Leonard is writing romantic fiction. At last he has a chance of publishing a book\, but there is a slight problem. The author must be a woman… \nTickets: \nAdult : € 14\,- (advance sale € 14\,50)\nStudents / Disabled : € 10\,- (advance sale € 10\,50) Please present your student/disabled ID card on show nights. \nAdvance sale: Haus der Karten\, Kreuzplatz 6\, 35390 Gießen; (0641) 7957 -60/ -61 oder online: http://tickets.keller-theatre.de \nPerformances: February 23\, March 1.\, 2.\, 8.\, 9.\, 15.\, 16\, 2024 \nTime: 7.30 pm (doors open at 7 pm) \nThere will be an intermission of about twenty minutes. The performance will run till about 9.45 pm \nVenue: Kleine Bühne\, Bleichstraße 28\, 35390 Gießen. \nFurther information about accessing the Kleine Bühne and parking see www.keller-theatre.de \nThe Keller Theatre is looking forward to seeing you at this hilarious show.
URL:https://www.giessener-zeitung.de/event/the-keller-theatre-presents-nobodys-perfect-by-simon-williams-7/
LOCATION:Kleine Bühne\, Bleichstraße 28\, 35390 Gießen\, Kleine Bühne\, Bleichstraße 28\, Gießen\, Hessen\, 35390\, Deutschland
CATEGORIES:Freizeit,Kultur,Theater,Vereine
ATTACH;FMTTYPE=image/jpeg:https://www.giessener-zeitung.de/wp-content/uploads/2024/02/Nobody´s-Perfect-Poster.jpg
ORGANIZER;CN="the Keller Theatre":MAILTO:info@keller-theatre.de
END:VEVENT
END:VCALENDAR