BEGIN:VCALENDAR
VERSION:2.0
PRODID:-//Gießener Zeitung - ECPv6.15.20//NONSGML v1.0//EN
CALSCALE:GREGORIAN
METHOD:PUBLISH
X-ORIGINAL-URL:https://www.giessener-zeitung.de
X-WR-CALDESC:Veranstaltungen für Gießener Zeitung
REFRESH-INTERVAL;VALUE=DURATION:PT1H
X-Robots-Tag:noindex
X-PUBLISHED-TTL:PT1H
BEGIN:VTIMEZONE
TZID:Europe/Berlin
BEGIN:DAYLIGHT
TZOFFSETFROM:+0100
TZOFFSETTO:+0200
TZNAME:CEST
DTSTART:20230326T010000
END:DAYLIGHT
BEGIN:STANDARD
TZOFFSETFROM:+0200
TZOFFSETTO:+0100
TZNAME:CET
DTSTART:20231029T010000
END:STANDARD
BEGIN:DAYLIGHT
TZOFFSETFROM:+0100
TZOFFSETTO:+0200
TZNAME:CEST
DTSTART:20240331T010000
END:DAYLIGHT
BEGIN:STANDARD
TZOFFSETFROM:+0200
TZOFFSETTO:+0100
TZNAME:CET
DTSTART:20241027T010000
END:STANDARD
BEGIN:DAYLIGHT
TZOFFSETFROM:+0100
TZOFFSETTO:+0200
TZNAME:CEST
DTSTART:20250330T010000
END:DAYLIGHT
BEGIN:STANDARD
TZOFFSETFROM:+0200
TZOFFSETTO:+0100
TZNAME:CET
DTSTART:20251026T010000
END:STANDARD
END:VTIMEZONE
BEGIN:VEVENT
DTSTART;TZID=Europe/Berlin:20240223T193000
DTEND;TZID=Europe/Berlin:20240223T214500
DTSTAMP:20260419T183706
CREATED:20240207T224950Z
LAST-MODIFIED:20240207T224950Z
UID:51908-1708716600-1708724700@www.giessener-zeitung.de
SUMMARY:the Keller Theatre presents "Nobody´s Perfect" by Simon Williams
DESCRIPTION:Nobody´s Perfect\, a comedy by Simon Williams \nLeonard – a single parent and statistician in home office – seems lonely and boring to his very teenage daughter and his fun-loving father. What they don’t know is that Leonard is writing romantic fiction. At last he has a chance of publishing a book\, but there is a slight problem. The author must be a woman… \nTickets: \nAdult : € 14\,- (advance sale € 14\,50)\nStudents / Disabled : € 10\,- (advance sale € 10\,50) Please present your student/disabled ID card on show nights. \nAdvance sale: Haus der Karten\, Kreuzplatz 6\, 35390 Gießen; (0641) 7957 -60/ -61 oder online: http://tickets.keller-theatre.de \nPerformances: February 23\, March 1.\, 2.\, 8.\, 9.\, 15.\, 16\, 2024 \nTime: 7.30 pm (doors open at 7 pm) \nThere will be an intermission of about twenty minutes. The performance will run till about 9.45 pm \nVenue: Kleine Bühne\, Bleichstraße 28\, 35390 Gießen. \nFurther information about accessing the Kleine Bühne and parking see www.keller-theatre.de \nThe Keller Theatre is looking forward to seeing you at this hilarious show.
URL:https://www.giessener-zeitung.de/event/the-keller-theatre-presents-nobodys-perfect-by-simon-williams/
LOCATION:Kleine Bühne\, Bleichstraße 28\, 35390 Gießen\, Kleine Bühne\, Bleichstraße 28\, Gießen\, Hessen\, 35390\, Deutschland
CATEGORIES:Freizeit,Kultur,Theater,Vereine
ATTACH;FMTTYPE=image/jpeg:https://www.giessener-zeitung.de/wp-content/uploads/2024/02/Nobody´s-Perfect-Poster.jpg
ORGANIZER;CN="the Keller Theatre":MAILTO:info@keller-theatre.de
END:VEVENT
END:VCALENDAR