BEGIN:VCALENDAR
VERSION:2.0
PRODID:-//Gießener Zeitung - ECPv6.15.20//NONSGML v1.0//EN
CALSCALE:GREGORIAN
METHOD:PUBLISH
X-WR-CALNAME:Gießener Zeitung
X-ORIGINAL-URL:https://www.giessener-zeitung.de
X-WR-CALDESC:Veranstaltungen für Gießener Zeitung
REFRESH-INTERVAL;VALUE=DURATION:PT1H
X-Robots-Tag:noindex
X-PUBLISHED-TTL:PT1H
BEGIN:VTIMEZONE
TZID:Europe/Berlin
BEGIN:DAYLIGHT
TZOFFSETFROM:+0100
TZOFFSETTO:+0200
TZNAME:CEST
DTSTART:20230326T010000
END:DAYLIGHT
BEGIN:STANDARD
TZOFFSETFROM:+0200
TZOFFSETTO:+0100
TZNAME:CET
DTSTART:20231029T010000
END:STANDARD
BEGIN:DAYLIGHT
TZOFFSETFROM:+0100
TZOFFSETTO:+0200
TZNAME:CEST
DTSTART:20240331T010000
END:DAYLIGHT
BEGIN:STANDARD
TZOFFSETFROM:+0200
TZOFFSETTO:+0100
TZNAME:CET
DTSTART:20241027T010000
END:STANDARD
BEGIN:DAYLIGHT
TZOFFSETFROM:+0100
TZOFFSETTO:+0200
TZNAME:CEST
DTSTART:20250330T010000
END:DAYLIGHT
BEGIN:STANDARD
TZOFFSETFROM:+0200
TZOFFSETTO:+0100
TZNAME:CET
DTSTART:20251026T010000
END:STANDARD
END:VTIMEZONE
BEGIN:VEVENT
DTSTART;TZID=Europe/Berlin:20240727T140000
DTEND;TZID=Europe/Berlin:20240728T030000
DTSTAMP:20260425T172856
CREATED:20240715T083246Z
LAST-MODIFIED:20240715T083246Z
UID:58591-1722088800-1722135600@www.giessener-zeitung.de
SUMMARY:Seebornfest der Tragerlfreunde Dorf-Güll
DESCRIPTION:Die Tragerlfreunde des kleinsten Pohlheimer Stadtteils Dorf-Güll werden 20 Jahre alt und feiern am 27. Juli ihr beliebtes Seebornfest am gleichnamigen Wasserwerk – dem “Seeborn”. \nDie Gäste erwartet eine einzigartige Location inmitten eines Gartens. \nAuch in diesem Jahr heißt es wieder “Eintritt frei” – überzogene Preise sucht man hier vergebens. \nDas diesjährige Programm: \nSamstag\, 27.07.2024\, ab 14:00 Uhr: \nGeselliche Stunne mit großem Kinderprogramm – mit Kaffee\, Kuchen\, Hüpfburg\, Best Woscht in Town und zum allerersten Mal POMMES! \nIm Anschluss:\nLusdiche Stunne – hier treffen sich jung und alt bei Musik für alle Altersgruppen.
URL:https://www.giessener-zeitung.de/event/seebornfest-der-tragerlfreunde-dorf-guell-2/
LOCATION:35415 Pohlheim Dorf-Güll. Wasserwerk “Seeborn”\, Zur Arche\, Pohlheim\, 35415\, Deutschland
CATEGORIES:Eintritt frei,Freizeit
ATTACH;FMTTYPE=image/png:https://www.giessener-zeitung.de/wp-content/uploads/2024/07/Flyer2024-din-A5.png
END:VEVENT
END:VCALENDAR