BEGIN:VCALENDAR
VERSION:2.0
PRODID:-//Gießener Zeitung - ECPv6.15.20//NONSGML v1.0//EN
CALSCALE:GREGORIAN
METHOD:PUBLISH
X-ORIGINAL-URL:https://www.giessener-zeitung.de
X-WR-CALDESC:Veranstaltungen für Gießener Zeitung
REFRESH-INTERVAL;VALUE=DURATION:PT1H
X-Robots-Tag:noindex
X-PUBLISHED-TTL:PT1H
BEGIN:VTIMEZONE
TZID:Europe/Berlin
BEGIN:DAYLIGHT
TZOFFSETFROM:+0100
TZOFFSETTO:+0200
TZNAME:CEST
DTSTART:20220327T010000
END:DAYLIGHT
BEGIN:STANDARD
TZOFFSETFROM:+0200
TZOFFSETTO:+0100
TZNAME:CET
DTSTART:20221030T010000
END:STANDARD
BEGIN:DAYLIGHT
TZOFFSETFROM:+0100
TZOFFSETTO:+0200
TZNAME:CEST
DTSTART:20230326T010000
END:DAYLIGHT
BEGIN:STANDARD
TZOFFSETFROM:+0200
TZOFFSETTO:+0100
TZNAME:CET
DTSTART:20231029T010000
END:STANDARD
BEGIN:DAYLIGHT
TZOFFSETFROM:+0100
TZOFFSETTO:+0200
TZNAME:CEST
DTSTART:20240331T010000
END:DAYLIGHT
BEGIN:STANDARD
TZOFFSETFROM:+0200
TZOFFSETTO:+0100
TZNAME:CET
DTSTART:20241027T010000
END:STANDARD
END:VTIMEZONE
BEGIN:VEVENT
DTSTART;TZID=Europe/Berlin:20231116T180000
DTEND;TZID=Europe/Berlin:20231116T194500
DTSTAMP:20260426T062345
CREATED:20231107T145759Z
LAST-MODIFIED:20231107T145759Z
UID:48173-1700157600-1700163900@www.giessener-zeitung.de
SUMMARY:Web-Seminarreihe für Gründer*innen
DESCRIPTION:Wenn man erst einmal weiß\, welche Punkte bei der Existenzgründung eine wesentliche Rolle spielen\, kann man sich im Vorfeld der Gründung damit auseinandersetzen\, tiefer in die Themenbereiche einzusteigen sowie planvoll und zielstrebig bei der Vorbereitung der Existenzgründung vorzugehen. \nDie Wirtschaftsförderung der Stadt Gießen bietet gemeinsam mit der Inhaberin der rivivo consulting\, Frau Elena Mohr\, einen ersten Einblick in wesentliche Bereiche der Existenzgründung. Gründungsinteressierte finden in den drei Kurzveranstaltungen einen Einstieg in das Thema. Die Veranstaltungsreihe beschäftigt sich in jeweils 45 Minuten mit den Bereichen Businessplan (16.11.2023)\, das 1×1 der Buchhaltung (23.11.2023) sowie dem Mind-Set „Was ist für mich wichtig“ (30.11.2023). \nDie Veranstaltungen der Reihe können einzeln gebucht werden und sind über die angegebene Internetseite möglich.\nAnmeldeschluss ist jeweils 2 Tage vor dem jeweiligen Seminarteil. Die Teilnahme ist kostenfrei. \nDie Referentin stellt nach Beendigung des Seminars ein kostenloses Handout zur Verfügung. Es kann unter info@rivivo.de angefordert werden.
URL:https://www.giessener-zeitung.de/event/web-seminarreihe-fuer-gruenderinnen/
LOCATION:Web-Veranstaltung\, Hessen\, 35390\, Deutschland
CATEGORIES:Eintritt frei,Seminar-Präsentation/Werkschau
ATTACH;FMTTYPE=image/jpeg:https://www.giessener-zeitung.de/wp-content/uploads/2022/04/Existenzgruendung_Tafel_Fotolia_31654159_XS.jpg
ORGANIZER;CN="Stadt Gie%C3%9Fen - Wirtschaftsf%C3%B6rderung":MAILTO:elke.gaub-kuehnl@giessen.de
END:VEVENT
END:VCALENDAR