BEGIN:VCALENDAR
VERSION:2.0
PRODID:-//Gießener Zeitung - ECPv6.15.20//NONSGML v1.0//EN
CALSCALE:GREGORIAN
METHOD:PUBLISH
X-WR-CALNAME:Gießener Zeitung
X-ORIGINAL-URL:https://www.giessener-zeitung.de
X-WR-CALDESC:Veranstaltungen für Gießener Zeitung
REFRESH-INTERVAL;VALUE=DURATION:PT1H
X-Robots-Tag:noindex
X-PUBLISHED-TTL:PT1H
BEGIN:VTIMEZONE
TZID:Europe/Berlin
BEGIN:DAYLIGHT
TZOFFSETFROM:+0100
TZOFFSETTO:+0200
TZNAME:CEST
DTSTART:20250330T010000
END:DAYLIGHT
BEGIN:STANDARD
TZOFFSETFROM:+0200
TZOFFSETTO:+0100
TZNAME:CET
DTSTART:20251026T010000
END:STANDARD
BEGIN:DAYLIGHT
TZOFFSETFROM:+0100
TZOFFSETTO:+0200
TZNAME:CEST
DTSTART:20260329T010000
END:DAYLIGHT
BEGIN:STANDARD
TZOFFSETFROM:+0200
TZOFFSETTO:+0100
TZNAME:CET
DTSTART:20261025T010000
END:STANDARD
BEGIN:DAYLIGHT
TZOFFSETFROM:+0100
TZOFFSETTO:+0200
TZNAME:CEST
DTSTART:20270328T010000
END:DAYLIGHT
BEGIN:STANDARD
TZOFFSETFROM:+0200
TZOFFSETTO:+0100
TZNAME:CET
DTSTART:20271031T010000
END:STANDARD
END:VTIMEZONE
BEGIN:VEVENT
DTSTART;TZID=Europe/Berlin:20260309T200000
DTEND;TZID=Europe/Berlin:20260622T213000
DTSTAMP:20260426T011941
CREATED:20260305T155452Z
LAST-MODIFIED:20260305T155452Z
UID:83398-1773086400-1782163800@www.giessener-zeitung.de
SUMMARY:Vereinstraining TSC-Wettenberg e.V. Mehrzweckhalle Krofdorf
DESCRIPTION:  \n  \nVereinstraining TSC-Wettenberg e.V. Mehrzweckhalle Krofdorf und Bürgerhaus Wißmar \n  \nStandard- und Latein-Gruppen \nMontags: 18:30 bis 20:00 Uhr in der Südhälfte der Mehrzweckhalle in Krofdorf.\nDer Eingang befindet sich in der Turnhallenstr. 11 (gegenüber der Bäckerei Seidel) \nMittwochs Einsteiger Gruppe: 18:30 bis 20:00 Uhr im Bürgerhaus Wißmar\nMittwochs Fortgeschrittenen Gruppe: 20:00 Uhr bis 21:30 Uhr im Bürgerhaus Wißmar \n  \nBoogie-Woogie-Gruppen  \nMontags ab BWO I: 20:00 bis 21:30 Uhr in der Südhälfte der Mehrzweckhalle in Krofdorf.\nFreitags ab BWO II: 19:30 bis 21:00 Uhr in der Nordhälfte der Mehrzweckhalle in Krofdorf.\nDerzeit wechselt das FR-Training zwischen Training und freies Tanzen im Wechsel alle 2 Wochen. \n  \nWest-Coast-Swing \nDienstags: 19:30 -21:00 Uhr in der Nordhälfte der Mehrzweckhalle in Krofdorf. \n  \n  \nInteressierte können gerne in die Mehrzweckhalle Krofdorf oder nach Wißmar ins Bürgerhaus kommen. \n 
URL:https://www.giessener-zeitung.de/event/vereinstraining-tsc-wettenberg-e-v-mehrzweckhalle-krofdorf/
LOCATION:35435 Krofdorf-Gleiberg\, Turnhallenstrasse 11 (Mehrzweckhalle)\, Turnhallenstrasse 11\, Krofdorf-Gleiberg\, Hessen\, 35435\, Germany
CATEGORIES:Freizeit
ATTACH;FMTTYPE=image/jpeg:https://www.giessener-zeitung.de/wp-content/uploads/2026/03/Logo_TSC-klein.jpg
ORGANIZER;CN="TSC-Wettenberg e.V.":MAILTO:vorstand@tsc-wettenberg.de
END:VEVENT
BEGIN:VEVENT
DTSTART;TZID=Europe/Berlin:20260426T130000
DTEND;TZID=Europe/Berlin:20260426T160000
DTSTAMP:20260426T011941
CREATED:20260420T080549Z
LAST-MODIFIED:20260420T080549Z
UID:85399-1777208400-1777219200@www.giessener-zeitung.de
SUMMARY:Herzliche Einladung ins Café Tierlieb: Ein Sonntag voller Genuss und tierischer Freude!
DESCRIPTION:Liebe Tierfreunde und Genießer\, \nsuchen Sie nach einem besonderen Ort\, um Ihren Sonntagnachmittag zu verbringen? Dann laden wir Sie herzlich ein\, das Café Tierlieb im Tierheim Gießen zu besuchen! \nJeden Sonntag von 13:00 bis 16:00 Uhr öffnen wir unsere Türen und bieten Ihnen mehr als nur eine Tasse Kaffee. Genießen Sie köstliche Kuchen und Getränke – natürlich auch mit veganen Optionen – und stöbern Sie auf unserem Flohmarkt für Haustierbedarf nach tollen Schnäppchen. \nWas erwartet Sie? \n\nEine Auswahl an leckeren Getränken (Kaffee\, Apfelschorle\, Wasser) \nHausgemachte Kuchen\, auch vegane Sorten \nEinen Flohmarkt mit allem\, was das Haustierherz begehrt (Leinen\, Spielzeug\, Körbchen uvm.) \nEine entspannte Atmosphäre\, umgeben von Tierliebhabern \nLernen Sie unser Tierheim bei einer unserer Führungen kennen\n\n\nIm Auslauf können Sie Hunde persönlich kennenlernen oder spielen Sie mit den Katzen in unserem Katzenhaus\n\n  \nDas Café Tierlieb ist der perfekte Ort\, um einen entspannten Sonntagnachmittag zu verbringen\, neue Kontakte zu knüpfen und gleichzeitig den Tierschutz zu unterstützen. \nWo finden Sie uns? \nTierheim Gießen  \nVixröder Str. 16  \n35396 Gießen  \nWir freuen uns auf Ihren Besuch und darauf\, gemeinsam mit Ihnen einen schönen Sonntag zu verbringen! \nHerzliche Grüße\, \nIhr Team vom Tierschutzverein Gießen und Umgebung e. V.
URL:https://www.giessener-zeitung.de/event/herzliche-einladung-ins-cafe-tierlieb-ein-sonntag-voller-genuss-und-tierischer-freude-12/
LOCATION:Tierheim Gießen\, Vixröderstr. 16\, Gießen\, Hessen\, 35396\, Deutschland
CATEGORIES:Eintritt frei,Führung,Tierschutzverein
ATTACH;FMTTYPE=image/jpeg:https://www.giessener-zeitung.de/wp-content/uploads/2026/04/2025-Collage-Cafe-Tierlieb-und-Tiere-2.jpg
END:VEVENT
BEGIN:VEVENT
DTSTART;TZID=Europe/Berlin:20260426T180000
DTEND;TZID=Europe/Berlin:20260426T193000
DTSTAMP:20260426T011941
CREATED:20260417T113022Z
LAST-MODIFIED:20260422T150203Z
UID:85284-1777226400-1777231800@www.giessener-zeitung.de
SUMMARY:Symphonisches Konzert
DESCRIPTION:Werke von Wolfgang Amadeus Mozart und Franz Schubert stehen im Mittelpunkt dieses besonderen Abends in der Ev. Marienstiftskirche Lich. \nZu Beginn erklingen das Kyrie in d-Moll (KV 341) von Wolfgang Amadeus Mozart und das Konzert für zwei Klaviere und Orchester in Es-Dur (KV 365). Letzteres schrieb Mozart ursprünglich für sich und seine Schwester „Nannerl“. Die beiden Solopartien in dem sogenannten „Königskonzert“ treten darin immer wieder in einen musikalischen Dialog und prägen den Charakter des Stücks. \nDie Soloparts übernehmen die Pianistinnen Clara und Marie Becker\, die als Klavierduo auftreten. Sie spielen international und erfreuten in der Vergangenheit bereits hier in der Gegend ein begeistertes Publikum. In Mozarts virtuosem Doppelkonzert gibt es reichlich Gelegenheit\, ihr musikalisches Zusammenspiel zu entfalten. \nIm zweiten Teil des Konzerts erklingt Franz Schuberts Messe in Es-Dur. Sie ist seine letzte Messkomposition und gehört zu seinen größeren geistlichen Werken. Chor\, Solisten und Orchester gestalten gemeinsam diese Vertonung des Messordinariums. \n\n\nMarienstiftskantorei Lich | Kammerorchester Frankfurter Solisten \nKarola Pavone\, Sopran | Johanna Krell\, Alt | Edward Leach\, Tenor | Clarke Ruth\, Bass \nClara und Marie Becker\, Klavier \nChristof Becker\, Leitung
URL:https://www.giessener-zeitung.de/event/symphonisches-konzert/
LOCATION:Ev. Marienstiftskirche Lich\, Am Wall 24\, Lich\, Hessen\, 35423\, Germany
CATEGORIES:Chor,Kirchenmusik,Klassik,Konzert,Kultur,Orchester
ATTACH;FMTTYPE=image/jpeg:https://www.giessener-zeitung.de/wp-content/uploads/2026/04/2026-04-26_Symphonisches-Konzert.jpg
END:VEVENT
END:VCALENDAR