BEGIN:VCALENDAR
VERSION:2.0
PRODID:-//Gießener Zeitung - ECPv6.15.20//NONSGML v1.0//EN
CALSCALE:GREGORIAN
METHOD:PUBLISH
X-WR-CALNAME:Gießener Zeitung
X-ORIGINAL-URL:https://www.giessener-zeitung.de
X-WR-CALDESC:Veranstaltungen für Gießener Zeitung
REFRESH-INTERVAL;VALUE=DURATION:PT1H
X-Robots-Tag:noindex
X-PUBLISHED-TTL:PT1H
BEGIN:VTIMEZONE
TZID:Europe/Berlin
BEGIN:DAYLIGHT
TZOFFSETFROM:+0100
TZOFFSETTO:+0200
TZNAME:CEST
DTSTART:20250330T010000
END:DAYLIGHT
BEGIN:STANDARD
TZOFFSETFROM:+0200
TZOFFSETTO:+0100
TZNAME:CET
DTSTART:20251026T010000
END:STANDARD
BEGIN:DAYLIGHT
TZOFFSETFROM:+0100
TZOFFSETTO:+0200
TZNAME:CEST
DTSTART:20260329T010000
END:DAYLIGHT
BEGIN:STANDARD
TZOFFSETFROM:+0200
TZOFFSETTO:+0100
TZNAME:CET
DTSTART:20261025T010000
END:STANDARD
BEGIN:DAYLIGHT
TZOFFSETFROM:+0100
TZOFFSETTO:+0200
TZNAME:CEST
DTSTART:20270328T010000
END:DAYLIGHT
BEGIN:STANDARD
TZOFFSETFROM:+0200
TZOFFSETTO:+0100
TZNAME:CET
DTSTART:20271031T010000
END:STANDARD
END:VTIMEZONE
BEGIN:VEVENT
DTSTART;TZID=Europe/Berlin:20260309T200000
DTEND;TZID=Europe/Berlin:20260622T213000
DTSTAMP:20260424T014019
CREATED:20260305T155452Z
LAST-MODIFIED:20260305T155452Z
UID:83398-1773086400-1782163800@www.giessener-zeitung.de
SUMMARY:Vereinstraining TSC-Wettenberg e.V. Mehrzweckhalle Krofdorf
DESCRIPTION:  \n  \nVereinstraining TSC-Wettenberg e.V. Mehrzweckhalle Krofdorf und Bürgerhaus Wißmar \n  \nStandard- und Latein-Gruppen \nMontags: 18:30 bis 20:00 Uhr in der Südhälfte der Mehrzweckhalle in Krofdorf.\nDer Eingang befindet sich in der Turnhallenstr. 11 (gegenüber der Bäckerei Seidel) \nMittwochs Einsteiger Gruppe: 18:30 bis 20:00 Uhr im Bürgerhaus Wißmar\nMittwochs Fortgeschrittenen Gruppe: 20:00 Uhr bis 21:30 Uhr im Bürgerhaus Wißmar \n  \nBoogie-Woogie-Gruppen  \nMontags ab BWO I: 20:00 bis 21:30 Uhr in der Südhälfte der Mehrzweckhalle in Krofdorf.\nFreitags ab BWO II: 19:30 bis 21:00 Uhr in der Nordhälfte der Mehrzweckhalle in Krofdorf.\nDerzeit wechselt das FR-Training zwischen Training und freies Tanzen im Wechsel alle 2 Wochen. \n  \nWest-Coast-Swing \nDienstags: 19:30 -21:00 Uhr in der Nordhälfte der Mehrzweckhalle in Krofdorf. \n  \n  \nInteressierte können gerne in die Mehrzweckhalle Krofdorf oder nach Wißmar ins Bürgerhaus kommen. \n 
URL:https://www.giessener-zeitung.de/event/vereinstraining-tsc-wettenberg-e-v-mehrzweckhalle-krofdorf/
LOCATION:35435 Krofdorf-Gleiberg\, Turnhallenstrasse 11 (Mehrzweckhalle)\, Turnhallenstrasse 11\, Krofdorf-Gleiberg\, Hessen\, 35435\, Germany
CATEGORIES:Freizeit
ATTACH;FMTTYPE=image/jpeg:https://www.giessener-zeitung.de/wp-content/uploads/2026/03/Logo_TSC-klein.jpg
ORGANIZER;CN="TSC-Wettenberg e.V.":MAILTO:vorstand@tsc-wettenberg.de
END:VEVENT
BEGIN:VEVENT
DTSTART;TZID=Europe/Berlin:20260424T190000
DTEND;TZID=Europe/Berlin:20260424T203000
DTSTAMP:20260424T014019
CREATED:20260112T211022Z
LAST-MODIFIED:20260112T211022Z
UID:81341-1777057200-1777062600@www.giessener-zeitung.de
SUMMARY:ICH WILL LIEBER SCHWEIGEN. Lesung und Gespräch mit Roswitha Quadflieg
DESCRIPTION:Freitag\, 24.4.\, 19 Uhr  \nMargarete-Bieber-Saal \nLudwigstr. 34 \n35390 Gießen \nEintritt frei\, Reservierung möglich \nModeration: Sascha Feuchert (LZG | AHL) \nWill Quadflieg war ein Star\, sein Aufstieg begann im sog. Dritten Reich. Jahrzehnte nach seinem Tod findet seine Tochter Roswitha sein Tagebuch\, begonnen kurz vor Ende des Zweiten Weltkriegs. Es wird Zeit für ein ernstes Gespräch\, das es zu Lebzeiten nie gegeben hat. \nMärz 1945: Die Rote Armee rückt täglich näher an Berlin heran. Angst und Verzweiflung grassieren unter der Zivilbevölkerung. Gibt es eine Möglichkeit\, zu entkommen? Die Eltern von Roswitha Quadflieg entschließen sich zur Trennung. Er\, einer der berühmtesten Schauspieler der Zeit\, beginnt\, ein Tagebuch für seine Frau zu schreiben. Als ihre Mutter stirbt\, findet Roswitha Quadflieg das Tagebuch zusammen mit zahlreichen Briefen des Vaters. Diese Dokumente zeugen nicht nur von Flucht\, Angst\, Liebe und der Behauptung einer »richtigen« deutschen Kultur\, sondern auch von Schuld\, falscher Sprache\, Lüge und Selbstlüge. Roswitha Quadflieg rekonstruiert 104 Tage im Leben ihres Vaters und konfrontiert ihn posthum damit. Eine beeindruckende Beweisaufnahme\, ein er hellendes Zwiegespräch. \nRoswitha Quadflieg (*1949 in Zürich) ist die jüngste Tochter des Schauspielers Will Quadflieg. Sie studierte Malerei\, Graphik\, Illustration und Typografie in Hamburg und arbeitete als Buchkünstlerin und Verlegerin in der eigenen Verlagswerkstatt RaaminPresse am Stadtrand Hamburgs. Seit 1985 schreibt sie außerdem Romane\, Theaterstücke und Hörspiele. Heute lebt sie in Berlin. \nIn Kooperation mit der Arbeitsstelle Holocaustliteratur der Justus Liebig-Universität Gießen und der Hessischen Landeszentrale für Politische Bildung
URL:https://www.giessener-zeitung.de/event/ich-will-lieber-schweigen-lesung-und-gespraech-mit-roswitha-quadflieg/
LOCATION:Margarete-Bieber-Saal\, Ludwigstraße 34\, Gießen\, 35390
CATEGORIES:Eintritt frei,Kultur,Lesung,Literatur,Live
ATTACH;FMTTYPE=image/png:https://www.giessener-zeitung.de/wp-content/uploads/2026/01/Quadflieg.png
END:VEVENT
END:VCALENDAR