BEGIN:VCALENDAR
VERSION:2.0
PRODID:-//Gießener Zeitung - ECPv6.15.20//NONSGML v1.0//EN
CALSCALE:GREGORIAN
METHOD:PUBLISH
X-WR-CALNAME:Gießener Zeitung
X-ORIGINAL-URL:https://www.giessener-zeitung.de
X-WR-CALDESC:Veranstaltungen für Gießener Zeitung
REFRESH-INTERVAL;VALUE=DURATION:PT1H
X-Robots-Tag:noindex
X-PUBLISHED-TTL:PT1H
BEGIN:VTIMEZONE
TZID:Europe/Berlin
BEGIN:DAYLIGHT
TZOFFSETFROM:+0100
TZOFFSETTO:+0200
TZNAME:CEST
DTSTART:20230326T010000
END:DAYLIGHT
BEGIN:STANDARD
TZOFFSETFROM:+0200
TZOFFSETTO:+0100
TZNAME:CET
DTSTART:20231029T010000
END:STANDARD
BEGIN:DAYLIGHT
TZOFFSETFROM:+0100
TZOFFSETTO:+0200
TZNAME:CEST
DTSTART:20240331T010000
END:DAYLIGHT
BEGIN:STANDARD
TZOFFSETFROM:+0200
TZOFFSETTO:+0100
TZNAME:CET
DTSTART:20241027T010000
END:STANDARD
BEGIN:DAYLIGHT
TZOFFSETFROM:+0100
TZOFFSETTO:+0200
TZNAME:CEST
DTSTART:20250330T010000
END:DAYLIGHT
BEGIN:STANDARD
TZOFFSETFROM:+0200
TZOFFSETTO:+0100
TZNAME:CET
DTSTART:20251026T010000
END:STANDARD
END:VTIMEZONE
BEGIN:VEVENT
DTSTART;TZID=Europe/Berlin:20241116T160000
DTEND;TZID=Europe/Berlin:20241116T210000
DTSTAMP:20260419T152159
CREATED:20240929T165832Z
LAST-MODIFIED:20240929T165949Z
UID:61244-1731772800-1731790800@www.giessener-zeitung.de
SUMMARY:Lichterfest Tierheim Gießen - 16.11.2024
DESCRIPTION:Liebe Tierfreund*innen! \nWir laden Sie herzlich ein zu unserem Lichterfest im Tierheim Gießen. Besuchen Sie uns und genießen Sie einen wundervollen Abend. \nFreuen Sie sich auf eine Vielzahl an Leckereien wie frisch gebackene Waffeln\, herzhafte Suppen\, wärmenden Glühwein und köstlichen Kinderpunsch. \nStöbern Sie auf unserem Flohmarkt und entdecken tolle Verkaufsstände mit Angeboten für Vier- und Zweibeiner. \nFür die musikalische Untermalung sorgt Jochen Rudolph\, der mit seinen Klängen für eine stimmungsvolle Atmosphäre sorgt. \nUnd das ist noch nicht alles – es gibt noch viele weitere Überraschungen\, die auf Sie warten! Kommen Sie vorbei und verbringen Sie einen unvergesslichen Abend mit uns. \n  \n Wir freuen uns auf Ihren Besuch! \nDas Team des Tierheims Gießen \n  \nTierschutzverein Gießen und Umgebung e. V. \nMitgliedsverein DEUTSCHER TIERSCHUTZBUND e. V. \nVixröder Straße 16 \n35396 Gießen \nTelefon: 0641/5 22 51 \nE-Mail: info@tsv-giessen.de  \nhttp://www.tsv-giessen.de \nhttp://www.facebook.com \nhttp://www.instagram.com
URL:https://www.giessener-zeitung.de/event/lichterfest-tierheim-giessen-16-11-2024/
LOCATION:Hessen
CATEGORIES:Tierschutzverein
ATTACH;FMTTYPE=image/jpeg:https://www.giessener-zeitung.de/wp-content/uploads/2024/09/9b692a1c-dd85-457b-9061-1e7422afefe1.jpeg
END:VEVENT
BEGIN:VEVENT
DTSTART;TZID=Europe/Berlin:20241116T190000
DTEND;TZID=Europe/Berlin:20241116T203000
DTSTAMP:20260419T152159
CREATED:20241111T170018Z
LAST-MODIFIED:20241111T171201Z
UID:63273-1731783600-1731789000@www.giessener-zeitung.de
SUMMARY:Jubiläumskonzert am 16. November in Ettingshausen
DESCRIPTION:Der Teenchor „Melody Kids“ wurde vor 25 Jahren gegründet und dies wird gefeiert mit einem Konzert am Samstag\, den 16. November\, um 19:00 Uhr in der Sport- und Kulturhalle Ettingshausen. \nDas Konzert steht unter dem Motto „Movie Music“ und wird von den „Melody Kids“ und dem Jungen Chor der „Young Generation“ gestaltet – beide Chöre stehen unter der Leitung von Axel Pfeiffer. Zudem wird das Trio „Bill’s Jazz Band“ aus Lich zu Gast sein. \nPassend zur Filmmusik gibt es neben Getränken auch Popcorn und Eiskonfekt. Der Eintritt ist frei!
URL:https://www.giessener-zeitung.de/event/jubilaeumskonzert-am-16-november-in-ettingshausen/
LOCATION:Sport- und Kulturhalle Ettingshausen\, Ettingshausen\, Hessen\, 35435
CATEGORIES:Chor,Eintritt frei,Konzert
ATTACH;FMTTYPE=image/jpeg:https://www.giessener-zeitung.de/wp-content/uploads/2024/11/2024-11_Konzert.jpg
END:VEVENT
END:VCALENDAR