BEGIN:VCALENDAR
VERSION:2.0
PRODID:-//Gießener Zeitung - ECPv6.15.20//NONSGML v1.0//EN
CALSCALE:GREGORIAN
METHOD:PUBLISH
X-ORIGINAL-URL:https://www.giessener-zeitung.de
X-WR-CALDESC:Veranstaltungen für Gießener Zeitung
REFRESH-INTERVAL;VALUE=DURATION:PT1H
X-Robots-Tag:noindex
X-PUBLISHED-TTL:PT1H
BEGIN:VTIMEZONE
TZID:Europe/Berlin
BEGIN:DAYLIGHT
TZOFFSETFROM:+0100
TZOFFSETTO:+0200
TZNAME:CEST
DTSTART:20230326T010000
END:DAYLIGHT
BEGIN:STANDARD
TZOFFSETFROM:+0200
TZOFFSETTO:+0100
TZNAME:CET
DTSTART:20231029T010000
END:STANDARD
BEGIN:DAYLIGHT
TZOFFSETFROM:+0100
TZOFFSETTO:+0200
TZNAME:CEST
DTSTART:20240331T010000
END:DAYLIGHT
BEGIN:STANDARD
TZOFFSETFROM:+0200
TZOFFSETTO:+0100
TZNAME:CET
DTSTART:20241027T010000
END:STANDARD
BEGIN:DAYLIGHT
TZOFFSETFROM:+0100
TZOFFSETTO:+0200
TZNAME:CEST
DTSTART:20250330T010000
END:DAYLIGHT
BEGIN:STANDARD
TZOFFSETFROM:+0200
TZOFFSETTO:+0100
TZNAME:CET
DTSTART:20251026T010000
END:STANDARD
END:VTIMEZONE
BEGIN:VEVENT
DTSTART;TZID=Europe/Berlin:20241114T180000
DTEND;TZID=Europe/Berlin:20241114T200000
DTSTAMP:20260419T183442
CREATED:20240723T081539Z
LAST-MODIFIED:20240723T081539Z
UID:58837-1731607200-1731614400@www.giessener-zeitung.de
SUMMARY:KI-Einführungsworkshop
DESCRIPTION:Am Donnerstag\, den 14.11.2024 findet von 18.00 – 20.00 Uhr ein offener KI-Einführungsworkshop statt: \nKünstliche Intelligenz (KI) ist allgegenwärtig und durchdringt mittlerweile all unsere Lebensbereiche. Dem Phänomen KI auf den Grund zu gehen\, ist jedoch nicht ganz einfach\, da blumige Beschreibungen das Konzept umwabern. In unserem Einführungskurs lernen Sie die Grundlagen und Anwendungsgebiete von KI sowie dem sogenannten Machine Learning kennen und trainieren selbst ein KI-System über eine leicht zu nutzende Oberfläche. Am Ende können Sie den Trend besser einordnen und haben verstanden was “Künstliche Intelligenz” eigentlich bedeutet. Sollten Sie dann Lust haben weiter abzutauchen\, bietet der Makerspace Gießen die richtigen Voraussetzungen für eigene Experimente mit KI-Systemen. \nWichtig: Es sind keinerlei Vorkenntnisse notwendig\, da der Kurs für absolute Einsteiger:innen gedacht ist. Mittels einem Mix aus Theorie\, Beispielen und interaktiven Elementen\, werden Sie an das Thema KI herangeführt. \n  \nBringen Sie gerne einen eigenen Laptop mit. Dies ist jedoch nicht notwendig\, da wir auch einige Computer vor Ort zur Verfügung haben.
URL:https://www.giessener-zeitung.de/event/ki-einfuehrungsworkshop/
LOCATION:MAGIE-Makerspace Gießen\, Walltorstraße 57\, Gießen\, 35390
ATTACH;FMTTYPE=image/png:https://www.giessener-zeitung.de/wp-content/uploads/2021/04/kifrstartups.png
ORGANIZER;CN="Technologie- und Innovationszentrum Gie%C3%9Fen GmbH":MAILTO:info@tig-gmbh.de
END:VEVENT
BEGIN:VEVENT
DTSTART;TZID=Europe/Berlin:20241114T183000
DTEND;TZID=Europe/Berlin:20241114T200000
DTSTAMP:20260419T183442
CREATED:20241102T194316Z
LAST-MODIFIED:20241102T210056Z
UID:62719-1731609000-1731614400@www.giessener-zeitung.de
SUMMARY:Nistkasten Säuberungs Aktion in der Gemarkung von Niederkleen
DESCRIPTION:An alle Vogel Liebhaber!\n\n\nJetzt ist es an der Zeit\, die Vogelnistkästen zu säubern und für eine gesunde Neubelebung im nächsten Jahr vorzubereiten.\nEs werden freiwillige Helfer gesucht\, die bei der diesjährigen\nNistkasten Säuberungs Aktion in der Niederkleener Gemarkung mithelfen wollen.\n\nZu einer BESPRECHUNG UND AUFGABENVERTEILUNG treffen wir uns\nam: Donnerstag\, den 14.Nov.2024\num: 18:30 Uhr\nim Vereinsraum des Bürgerhauses (Hintereingang\, beim „Alten Haus“)\nAnsprechpartner: K. Rücker\, K. Krill\, J. Langen (06447-6673)\n\n\nWir freuen uns über viele fleissige Mitstreiter\, die dieses Vogelschutzprojekt unterstützen möchten.
URL:https://www.giessener-zeitung.de/event/nistkasten-saeuberungs-aktion-in-der-gemarkung-von-niederkleen/
LOCATION:Vereinsraum im Bürgerhaus Niederkleen
CATEGORIES:Eintritt frei,Freizeit,Live,Open-Air,Vereine
ATTACH;FMTTYPE=image/jpeg:https://www.giessener-zeitung.de/wp-content/uploads/2024/11/464579551_3862201330683857_4955366984311751081_n.jpg
END:VEVENT
BEGIN:VEVENT
DTSTART;TZID=Europe/Berlin:20241114T183000
DTEND;TZID=Europe/Berlin:20241114T203000
DTSTAMP:20260419T183442
CREATED:20241107T130423Z
LAST-MODIFIED:20241107T133837Z
UID:63078-1731609000-1731616200@www.giessener-zeitung.de
SUMMARY:Vortrag „Weltuntergang fällt aus“ – Mit Fakten gegen Fake News
DESCRIPTION:Gigg+Volt lädt zum Vortrag mit anschließender Fragerunde von Bestseller-Autor Jan Hegenberg am 14.11.2024 ab 19 Uhr im Netanya-Saal des Alten Schlosses.   \nDie Energiewende wird in Deutschland seit jeher\, und in den letzten Jahren immer stärker\, kritisch beäugt: \n\n„Wie soll das nachts ohne Wind mit der Energiewende funktionieren?“\n„Baut die ganze Welt nicht Kohle- und Atomstrom aus und Deutschland ist abhängig von Stromimporten?“\n„Wo sollen die ganzen Rohstoffe für Windräder\, E-Autos und Co. herkommen?“\n„Sind Biosprit\, E-Fuels und Wasserstoff nicht viel besser als E-Autos?“\n\nDoch was ist dran an dieser Kritik? Handelt es sich um berechtigte Befürchtungen oder doch eher um Fake News? \nDie Fraktion Gigg+Volt hat den Autor der beiden Bestseller „Weltuntergang fällt aus“ und „Klima-Bullshit-Bingo“ Jan Hegenberg eingeladen\, um diesen Fragen mit einem detaillierten Blick auf die Fakten nachzugehen und die beliebtesten Legenden zur Energiewende und Klimaschutz im Allgemeinen zu widerlegen. Der Vortrag ist Teil einer Klausurtagung der Fraktion\, in der es um die weitere klimapolitische Arbeit im Stadtparlament geht. \nDie Fraktion sieht die Organisation des Vortrags\, fünf Jahre nach dem Klimaneutralität-Beschluss “2035Null”\, auch als ein Beitrag zur Wiederbelebung der öffentlichen Debatte über den besten Weg in eine lebenswerte Zukunft. Zum Vortrag mit anschließender Fragerunde ist daher die interessierte Öffentlichkeit und insbesondere alle Mandatsträger*innen herzlich eingeladen. Der Eintritt ist frei\, eine vorherige Anmeldung ist nicht notwendig. Einlass ist ab 18:30 Uhr\, Vortragsbeginn um 19 Uhr. \n„Ich freue mich sehr\, dass wir mit Jan Hegenberg einen Referenten gewinnen konnten\, der\, aufgeschlossen für neue Argumente\, seit Jahren dorthin geht\, wo es schon mal weh tut: In die Filterblasen von Klimawandelleugnern und Energiewendekritikern. Seine wissenschaftlich fundierten\, aber humorvoll vorgetragenen Antworten auf beliebte Scheinargumente gegen engagierten Klimaschutz\, sind eine Paradebeispiel für gute Klimakommunikation und können auch für unsere Fraktion und unsere Kolleginnen und Kollegen aus anderen Parteien im Stadtparlament sehr wertvoll sein.“ so Johannes Rippl\, Stadtverordneter von Gigg – Gießen gemeinsam gestalten.
URL:https://www.giessener-zeitung.de/event/vortrag-weltuntergang-faellt-aus-mit-fakten-gegen-fake-news/
LOCATION:Altes Schloss\, Gießen\, Brandplatz 2\, Gießen\, 35390\, Germany
CATEGORIES:Diskussion,Eintritt frei,Lesung,Politik,Vortrag
ATTACH;FMTTYPE=image/png:https://www.giessener-zeitung.de/wp-content/uploads/2024/11/Vortrag-Weltuntergang-faellt-aus-Jan-Hegenberg_GiggVolt.png
ORGANIZER;CN="Gigg+Volt - Fraktion im Stadtparlament Gie%C3%9Fen":MAILTO:fraktionsbuero@gigg-volt.de
END:VEVENT
BEGIN:VEVENT
DTSTART;TZID=Europe/Berlin:20241114T190000
DTEND;TZID=Europe/Berlin:20241114T210000
DTSTAMP:20260419T183442
CREATED:20240901T220126Z
LAST-MODIFIED:20240809T102851Z
UID:59308-1731610800-1731618000@www.giessener-zeitung.de
SUMMARY:Ich komme nicht zurück. Lesung und Gespräch mit Rasha Khayat
DESCRIPTION:Donnerstag\, 14.11. – 19 Uhr  \nUlenspiegel\nSeltersweg 55\n35390 Gießen \nEintritt: 6 € I erm. 4 € I LZG-Mitglieder frei \nHanna\, Zeyna und Cem wachsen gemeinsam in einer Arbeitersiedlung im Ruhrgebiet auf. Für sie ist es mehr als eine Freundschaft\, sie bilden eine Wahlfamilie\, in der Herkunft keine Rolle spielt. Zuhause ist\, wo sie zusammen sein können. Doch je älter die Kinder werden\, umso klarer treten die Unterschiede zwischen ihnen hervor. Mit dem 11. September 2001 wird ihre Freundschaft endgültig vor eine Zerreißprobe gestellt\, bis sich die Risse zwischen Hanna und Zeyna zum Bruch ausweiten. Jahre später kehrt Hanna zurück in die alte Heimat\, in die Wohnung ihrer verstorbenen Großeltern. Die Stadt steht still\, und Hanna fühlt sich einsam. Cem\, ihr Fels\, ist immer noch da\, aber Zeyna schon seit Jahren aus ihrem Leben verschwunden. Hanna begibt sich auf die Suche – nach Zeyna\, nach Spuren ihrer Geschichte\, nach dem\, was damals zwischen sie fiel. \nRasha Khayat (*1978 in Dortmund) wuchs in Saudi-Arabien auf. Als sie elf war\, siedelte ihre Familie nach Deutschland zurück. Sie studierte Vergleichende Literaturwissenschaften\, Germanistik und Philosophie in Bonn. Für ihr literarisches Werk wurde sie vielfach ausgezeichnet. Seit 2022 hostet sie außerdem den feministischen Literaturpodcast Fempire – der Podcast über Frauen\, die schreiben. \nIn Kooperation mit dem Kulturkeller Ulenspiegel\, gefördert durch die Arbeitsgemeinschaft Literarischer Gesellschaften und Gedenkstätten aus Mitteln der Beauftragten der Bundesregierung für Kultur und Medien
URL:https://www.giessener-zeitung.de/event/ich-komme-nicht-zurueck-lesung-und-gespraech-mit-rasha-khayat/
LOCATION:Ulenspiegel\, Seltersweg 50\, Gießen\, 35390\, Deutschland
CATEGORIES:Bildung,Kultur,Lesung,Literatur
ATTACH;FMTTYPE=image/png:https://www.giessener-zeitung.de/wp-content/uploads/2024/09/Khayat.png
END:VEVENT
END:VCALENDAR