BEGIN:VCALENDAR
VERSION:2.0
PRODID:-//Gießener Zeitung - ECPv6.15.20//NONSGML v1.0//EN
CALSCALE:GREGORIAN
METHOD:PUBLISH
X-ORIGINAL-URL:https://www.giessener-zeitung.de
X-WR-CALDESC:Veranstaltungen für Gießener Zeitung
REFRESH-INTERVAL;VALUE=DURATION:PT1H
X-Robots-Tag:noindex
X-PUBLISHED-TTL:PT1H
BEGIN:VTIMEZONE
TZID:Europe/Berlin
BEGIN:DAYLIGHT
TZOFFSETFROM:+0100
TZOFFSETTO:+0200
TZNAME:CEST
DTSTART:20230326T010000
END:DAYLIGHT
BEGIN:STANDARD
TZOFFSETFROM:+0200
TZOFFSETTO:+0100
TZNAME:CET
DTSTART:20231029T010000
END:STANDARD
BEGIN:DAYLIGHT
TZOFFSETFROM:+0100
TZOFFSETTO:+0200
TZNAME:CEST
DTSTART:20240331T010000
END:DAYLIGHT
BEGIN:STANDARD
TZOFFSETFROM:+0200
TZOFFSETTO:+0100
TZNAME:CET
DTSTART:20241027T010000
END:STANDARD
BEGIN:DAYLIGHT
TZOFFSETFROM:+0100
TZOFFSETTO:+0200
TZNAME:CEST
DTSTART:20250330T010000
END:DAYLIGHT
BEGIN:STANDARD
TZOFFSETFROM:+0200
TZOFFSETTO:+0100
TZNAME:CET
DTSTART:20251026T010000
END:STANDARD
END:VTIMEZONE
BEGIN:VEVENT
DTSTART;TZID=Europe/Berlin:20241113T080000
DTEND;TZID=Europe/Berlin:20241113T093000
DTSTAMP:20260419T200918
CREATED:20240812T100503Z
LAST-MODIFIED:20240812T100503Z
UID:59418-1731484800-1731490200@www.giessener-zeitung.de
SUMMARY:Wirtschaftsfrühstück Nachhaltigkeit: Nachhaltigkeit kreativ kommuniziert: Erfolgsstrategien für nachhaltiges Branding
DESCRIPTION:Nachhaltigkeit und Branding erfolgreich zu verbinden\, ist für viele Unternehmen eine Herausforderung. In diesem Vortrag werden innovative Ansätze präsentiert\, wie nachhaltige Werte effektiv und kreativ kommuniziert werden können. Praxisnahe Beispiele aus dem ökologisch nachhaltigen Sektor zeigen\, wie durch kreative Kampagnen einen nachhaltige Markenpositionierung erreicht werden kann. Die vermittelten Strategien und Best Practices bieten wertvolle Einblicke für Unternehmen\, die ihren Beitrag zum gesellschaftlichen Wandel leisten und dabei ihre Marke stärken möchten. Ein Muss für alle\, die Nachhaltigkeit und Branding innovativ und wirkungsvoll vereinen wollen. \n13. November von 08:00 – 09:30 Uhr im Seminarraum des Technologie- und Innovationszentrums Gießen GmbH\, Winchesterstraße 2\, 35394 Gießen                                                                                                  \nReferent\nHassaan Hakim\, YOOL Gmbh & Co. KG \nDer diplomierte Kulturwissenschaftler ist Inhaber und Geschäftsführer der “Werbeagentur für Nachhaltigkeit”  YOOL. Hassaan ist Marken- und Positionierungsstrategie für Unternehmen aus dem ökologisch nachhaltigen Sektor und Kampagnenexperte im Bereich\, gesellschaftlicher Wandel. Bis 2007 war Hassaan als Dozent an der Universität Hildesheim tätig\, wo er Kognition\, Kreativität und kulturvergleichende Psychologie unterrichtete. \nDie Teilnahme ist kostenfrei\, eine Anmeldung jedoch erforderlich unter:  \nhttps://pretix.eu/tiggiessen/
URL:https://www.giessener-zeitung.de/event/wirtschaftsfruehstueck-nachhaltigkeit-nachhaltigkeit-kreativ-kommuniziert-erfolgsstrategien-fuer-nachhaltiges-branding/
LOCATION:Technologie- und Innovationszentrum Gießen GmbH\, Winchesterstraße\, Gießen\, 35394\, Deutschland
ATTACH;FMTTYPE=image/png:https://www.giessener-zeitung.de/wp-content/uploads/2024/08/Logo-Nachhaltigkeit.png
ORGANIZER;CN="Technologie- und Innovationszentrum Gie%C3%9Fen GmbH":MAILTO:info@tig-gmbh.de
END:VEVENT
BEGIN:VEVENT
DTSTART;TZID=Europe/Berlin:20241113T150000
DTEND;TZID=Europe/Berlin:20241113T170000
DTSTAMP:20260419T200918
CREATED:20240723T081258Z
LAST-MODIFIED:20240723T081258Z
UID:58835-1731510000-1731517200@www.giessener-zeitung.de
SUMMARY:Wie gründe ich ein Sozialunternehmen? (Hessen-Edition)
DESCRIPTION:Online-Workshop für ALLE aus Hessen\, die Interesse haben\, ein Sozialunternehmen zu gründen. \nDu hast Lust\, zur positiven Veränderungen in der Welt beizutragen? Du möchtest von Deiner nachhaltigen Idee leben können? Dann könnte die Gründung eines Sozialunternehmens das Richtige für dich sein! \nDoch wie gründest Du ein Sozialunternehmen?! In diesem Online-Workshop beantworten Dir die Projektpartner des Sozialinnovator Hessen unter der Leitung des TIG (Technologie- und Innovationszentrum Gießen) genau diese Frage! Innerhalb von 2 Stunden geben wir Dir erste Einblicke und Anregungen über folgende Themen: \n• Was ist ein Sozialunternehmen?\n• Welche Schritte führen zu einer sozialunternehmerischen Idee?\n• Wie wird aus einer Idee ein Sozialunternehmen?\n• Was muss bei Gründungsteam\, Finanzierung und Rechtsform beachtet werden? \nDer Online-Workshop ist kostenlos. Mit der Buchungsbestätigung erhältst du einen Link zum Online-Workshop. \nEXKLUSIV FÜR WORKSHOP-TEILNEHMENDE: Wir geben Dir an einem Folgetermin ein kostenloses\, 1-stündiges Coaching für Deine sozialunternehmerische Geschäftsidee. Weitere Informationen erhältst Du im Online-Workshop. \nWas Du mitbringen solltest:\nDer Online-Workshop ist offen für alle Personen aus Hessen\, die sich mit der Gründung eines Sozialunternehmens auseinander setzen wollen. Du brauchst noch keine Gründungsidee mitzubringen – schadet aber nicht. Bring gerne die Fragen mit\, die Dich zum Thema umtreiben. \nÜber die Workshop-Moderatoren:\nChristian Deiters ist Social Startup-Enthusiast und arbeitet neben dem Betrieb seiner Plattform social-startups.de im Rahmen des TIG in Gießen ebenfalls seit Beginn tatkräftig am Sozialinnovator mit. \nPatrick Mijnals ist erfahrener Sozialunternehmer (u.a. Mitgründer von bettervest)\, Gründungsberater und Social Entrepreneurship-Enthusiast. Er arbeitet als Gründungsberater im “Sozialinnovator Hessen” und als Community Manager des Frankfurter Coworking-Space Villa Gründergeist. \nChristian Janisch ist ebenfalls erfahrener Unternehmer mit einem großen Hang zum wirkungsorientierten Gründen. Als Mitarbeiter beim Projektpartner heimathafen in Wiesbaden unterstützt er seit Jahren die Gründer:innen im Sozialinnovator mit seinem geballten Wissen und seiner praktischen Erfahrung. \nMatthias Beurer ist Projektkoordinator im MAFEX Inkubator der Universität Marburg und unterstützt den Sozialinnovator in unterschiedliche Bereichen von Beginn an.
URL:https://www.giessener-zeitung.de/event/wie-gruende-ich-ein-sozialunternehmen-hessen-edition-3/
LOCATION:virtuell
ORGANIZER;CN="Technologie- und Innovationszentrum Gie%C3%9Fen GmbH":MAILTO:info@tig-gmbh.de
END:VEVENT
END:VCALENDAR